Workbook
Name employmentbarriers: Sheet1!$O$4:$O$20
Name Programelements: Sheet1!$A$20:$A$34
Name Reviewer: Sheet1!$C$2:$C$4
Name RWB: Sheet1!$A$1:$A$25
Name trainingservices: [1]Sheet1!$C$51:$C$63

Sheet Youth
A1: WIOA PARTICIPANT FILE REVIEW TOOL 2017-2018 : FORMULA YOUTH | D1: 1 | E1: 2 | F1: 3 | G1: 4 | H1: 5 | I1: 6 | J1: 7 | K1: 8 | L1: 9 | M1: 10 | N1: 11 | O1: 12 | P1: 13 | Q1: 14 | R1: 15
B2: SELECT Local Workforce Development Board: | C2: Participant Last Name:
B3: SELECT Reviewer Name: | C3: Participant First Name:
B4: Dates of Review: mm/dd/yyyy | C4: State I.D.:
C5: File Status:
B6: PROGRAM ELIGIBILITY DETERMINATION
A7: 1 | B7: WIOA sec. 129 (a)(1)(B), WIOA sec. 129 (a)(1)(C), WIOA Rules Subpart B Section 681.210, 681.220, 681.230, 681.320, 681.250, 681.240, 681.260, 681.280 TEGL 21-16 and TEGL 10-16 | C7: Indicate whether the youth is an Out-of-School Youth (OSY) or an In-School Youth (ISY).
A8: 2 | B8: N/A | C8: Does the WIOA programs (case file) application date match the application date entered into the VaWC? (Y,N)
A9: 3 | B9: WIOA sec. 129 (a)(1)(B), WIOA sec. 129 (a)(1)(C), 20 CFR 681.230 | C9: Was documentation in the case file to verify school status? (Y, N, N/A) Applicable if participant enrolled on or after 7/1/2015.
A10: 4 | B10: WIOA sec. 129 (a)(1)(B) and (C), WIOA SEC. 129(A)(2), WIOA Final Rules Subpart B Section 681.210 - 220, 20 CFR 681.260, WIOA sec. 3(36) TEGL 21-16 | C10: Was documentation in the case file that the youth was determined eligible?
A11: 5 | B11: WIOA Sec. 129(c) (5), Local Workforce Services Plan, 20 CFR 681.250 | C11: Was the participant determined eligible under the 5% income exception criteria and was documentation in the case file to support this program eligibility? (Y, N, N/A).
A12: 6 | B12: WIOA sec. 129 (a)(1)(B), WIOA sec. 129 (a)(1)(C) | C12: Was documentation of age in the case file? (Y, N). (Note: In-School youth must be 14-21 and Out-Of-School youth must be 16-24 years of age).
A13: 7 | B13: WIOA Sec.188 (a)(5), 29 USC 2938(a)(5), and Special Project Contract | C13: Was documentation in the case file of U.S. citizenship or authorization to work in the U.S.? (Y, N).
A14: 8 | B14: WIOA SEC 189, 29 USC 4239(h), Military Selective Service Act | C14: Was selective service verification documentation in the case file at the time of registration or during participation? (Y, N, N/A) (Applicable to males over the age of 18 years at registration).
A15: 9 | B15: WIOA sec. 3(24)(I), WIOA Sec 129 (B) and ( C ) LWDA Plan, Local Policies, TEGL 21-16 | C15: Was documentation in the case file to support the federal or local barrier(s) entered in the VaWC? (Y, N) (Note: A barrier is required for all youth).
A16: 10 | B16: 20 CFR Section 681.310, VWL 16-11, WIOA SEC 129 | C16: If the 5% Limitation for Youth Requires Additional Assistance was used, was supporting documentation found in the case file? (Y,N,N/A). Make sure that documentation meets local policy criteria.
A17: 11 | B17: Code of Virginia §1-204 | C17: If the applicant is under 18 years of age, or 18 years of age and older with a legal guardian due to disability, did the application include the signature of a parent or legal guardian or was there a self-attestation from a parent or legal guardian in the case file? (Y, N, N/A) (Note: N/A = the youth is 18 years of age or greater or an emancipated minor).
C18: NOTES (issues/findings)
B19: VETERANS
A20: 12 | B20: WIOA sec. 3(63)(A) and 38 U.S.C. 101, 20 CFR 1010 20 CFR 680.650, TEGL 03-15 and Local Workforce Service Plan | C20: If the participant was a veteran, did the file contain documentation to verify veteran status? (Y, N, N/A) (Note: N/A= Participant was not a veteran).
A21: 13 | B21: 20 CFR 1010, JVA(38 U.S.C. 4215(a)) Sec. 2(a), Local Workforce Service Plan | C21: If the participant was an eligible spouse of a veteran, did the file contain documentation to verify eligible spouse of a veteran status?(Y, N, N/A) (Note: N/A= Participant was not an eligible spouse of a veteran).
B22: FORMS
A23: 14 | B23: VWL 16-09, VWL 15-05, WIOA SEC 188, 29 CFR 38, 20 CFR 675.300, WIOA 181 (c ) | C23: Was a signed and dated Grievance/Complaint and EEO/Discrimination Form in the participant's hard copy case file? (Y, N).
A24: 15 | B24: VWL 16-09, VWL 15-05, WIOA SEC 188, 29 CFR 38, 20 CFR 675.300 | C24: If yes to #14, did the Grievance/Complaint and EEO/Discrimination Form include the correct name and addresses for filing a grievance or EEO complaint? (Y, N).
A25: 16 | B25: 34 CFR Part 99? FERPA | C25: Was a current signed Consent to Exchange Information form in the participant's case file?
C26: NOTES (issues/findings)
B27: OBJECTIVE ASSESSMENT
B28: INDIVIDUAL SERVICE STRATEGY (ISS)
A29: 17 | B29: 20 CFR 681.320, WIOA sec. 129(c)(1)(A), TEGL 21-16 | C29: Was documentation of an objective assessment in the case file? (Y, N).
A30: 18 | B30: WIOA sec. 129 (c)(1)(A), WIOA Sec 136 (A)(ii), 20 CFR 681.420, TEGL 21-16 | C30: If yes to #17, does the Objective Assessment include an assessment of the academic level, occupational skill level, as well as the service needs and strengths of the participant? (Y, N, N/A).
A31: 19 | B31: WIOA sec. 129 (c) (A), 20 CFR 681.420-460, TEGL 21-16 | C31: Was documentation in the case file of an ISS that was created jointly by the participant and the career manager, and contained at least one of the 14 program elements listed? (Y, N). (If N, questions 18 and 19 will be N/A).
A32: 20 | B32: WIOA sec. 129 (c) (1) (B), 20 CFR 681.460, TEGL 10-16, 20 CFR 681.420 | C32: If yes to #19, does the ISS directly link to one or more of the performance indicators and does the ISS list the activities and services the youth will be or has been engaged in during participation in the WIOA program? (Y, N, N/A).
A33: 21 | B33: WIOA sec. 129 (c) (1) (B), 20 CFR 681 | C33: If yes to #20, was the ISS in the case file updated as activities were completed, benchmarks reached, goals achieved and/or the youth's needs changed? (Y, N, N/A).
C34: NOTES (issues/findings)
B35: PARTICIPATION
A36: 22 | B36: WIOA sec. 129 (c) (1) (B), 20 CFR 681 | C36: What program element was provided to the youth that began participation in the youth program?
B37: WORK EXPERIENCE
A38: 23 | B38: Local Plan, WIOA sec. 129(c)(2)(C), 20 CFR 681.600-681.630, 20 CFR 680.700, 20 CFR 681.480, TEGL 21-16 | C38: Was a WE activity entered in the State's VaWC? (Y, N) (Note: N/A = Participant did not receive a WE activity). (If N/A, questions 29 through 32 will be N/A).
A39: 24 | B39: Local Plan, WIOA sec. 129(c) (2)(c), 20 CFR 681.600 | C39: If yes to #23, was a WE activity agreement executed between the employer and the LWDB (Service Provider) for the participant's training? (Y,N,N/A) (N/A = Participant did not receive WE activity). See comment.
A40: 25 | B40: Local Plan and WE contract agreement, WIOA sec. 129(c) (2)(C), 20 CFR 681.600 | C40: Was documentation in the case file that the WE start date was on or after the employer's WE activity agreement effective date? (Y, N, N/A) (N/A = Participant did not receive WE activity).
...

Sheet Adult-DW
A1: WIOA PARTICIPANT FILE REVIEW TOOL 2017-2018 : FORMULA ADULT & DW | D1: 1 | E1: 2 | F1: 3 | G1: 4 | H1: 5 | I1: 6 | J1: 7 | K1: 8 | L1: 9 | M1: 10 | N1: 11 | O1: 12 | P1: 13 | Q1: 14 | R1: 15
B2: SELECT Local Workforce Development Board: | C2: Participant Last Name:
B3: SELECT Reviewer Name: | C3: Participant First Name:
B4: Dates of Review: mm/dd/yyyy | C4: State I.D.:
C5: File Status
B6: PROGRAM ELIGIBILITY DETERMINATION
A7: 1 | B7: WIOA Sec. 3(2), Sec. 3(15), 20 CFR 677.150, TEGL 19-16 | C7: Indicate whether the participant is an Adult (A) or Dislocated Worker (DW).
A8: 2 | C8: Does the WIOA programs application date match the application date entered into the VaWC? (Y,N)
A9: 3 | B9: 20 CFR Sec. 680.130, WIOA Sec.3(15), TEGL 19-16 | C9: If a Dislocated Worker, did the case file contain documentation of lay-off, termination, plant closure, recently separated veteran or spouse of a recently separated veteran, spouse of a veteran on active duty or other eligible Dislocated Worker criteria? (Y, N, N/A) (Note: N/A=Participant was not a Dislocated Worker).
A10: 4 | B10: 20 CFR 680.120, WIOA Sec.3(2), WIOA Sec. 3(15) | C10: Was documentation in the case file that the participant was 18 years of age or older at registration? (Y, N). (Note: If DW, participant does not have to be 18; however, determination of age must be documented).
A11: 5 | B11: WIOA Sec.188 (a)(5), 29 USC 2938(a)(5) | C11: Was documentation in the case file of U.S. citizenship or authorization to work in the U.S.? (Y, N).
A12: 6 | B12: 29 USC 2939(h), 50 U.S.C. App. 453 WIOA Sec.189(h), TEGL No. 11-11, change 2, and VWL 15-02, Attachment E | C12: Was selective service verification documentation in the case file at the time of registration or during participation? (Y, N, N/A) (Applicable to males born after 1960 and who are over the age of 18 years at registration).
C13: NOTES (findings/issues)
B14: PRIORITY POPULATION- BARRIERS TO EMPLOYMENT
A15: 7 | B15: WIOA Sec. 3(24), Sec. 3(15), 20 CFR 677.150, TEGL 19-16, WIOA Sec. 167(i) and TEGL 35–14 | C15: Indicate whether the participant is meeting a barrier to employment.
A16: 8 | B16: WIOA Sec. 3(24), Sec. 3(15), 20 CFR 677.150, TEGL 19-16, WIOA Sec. 167(i) and TEGL 35–14 | C16: Does the VaWC application capture the client's barrier( s)?
C17: NOTES (findings/issues)
B18: EMPLOYED (at participation) SELF-SUFFICIENCY DETERMINATION
A19: 9 | B19: WIOA Sec.122 (h), 20 CRF 680.700-850, WIOA sec. 134(c)(3)(A), and Local Workforce Service Plan | C19: Was the participant an employed worker/incumbent worker at the time of registration? (Y, N). (If No, questions 10 and 11 will be N/A).
A20: 10 | B20: WIOA Sec.122 (h), 20 CRF 680.700-850, WIOA sec. 134(c)(3)(A), and Local Workforce Service Plan | C20: If yes to #9, and the participant was not referred by an employer, is there documentation in the case file indicating that the participant was not earning a self-sufficient wage at the time of registration, was in need of training services to obtain or retain employment leading to "self-sufficiency", and was the participant in agreement with the training selection? (Y, N, N/A) (Note: N/A = Referred by an employer).
A21: 11 | B21: WIOA Sec.122 (h), 20 CRF 680.700-850, WIOA sec. 134(c)(3)(A), and Local Workforce Service Plan | C21: If yes to #9, and the participant was referred by an employer, is there documentation in the case file from the employer indicating the participant was in need of WIOA training services in order to obtain or retain employment that leads to self-sufficiency or to avert layoffs as described in local policy? (Y, N, N/A) (Note: N/A = Not referred by an employer).
C22: NOTES (findings/issues)
B23: VETERANS PRIORITY (All programs)
A24: 12 | B24: WIOA Sec.3(63)(A) and (B), 38 U.S.C. 101, 20 CFR 1010.110 TEGL 03-15 and Local Workforce Service Plan, 20 CFR 680.650 | C24: If the participant was a veteran, did the file contain documentation to verify veteran status? (Y, N, N/A) (Note: N/A= Participant was not a veteran.).
A25: 13 | B25: WIOA Sec.3(63)(A), 38 U.S.C. 101, 20 CFR 1010.110 TEGL 03-15 and Local Workforce Service Plan | C25: If the participant was an eligible spouse of a veteran, did the file contain documentation to verify eligible spouse of a veteran status?(Y, N, N/A) (Note: N/A= Participant was not an eligible spouse of a veteran).
C26: NOTES (findings/issues)
B27: PRIORITY OF SERVICE (Adult program only)
A28: 14 | B28: WIOA Sec 134(c)(3)(E ),20 CFR Part 675, 20 CFR Part 680. sections100 - 195 and 600-660 , WIOA Secs. 3(16),3(24), 3(25), 3(36), VWL 15-03, VWL 15-10, TEGL 19-16, TEGL 10-09 | C28: If an Adult, was the participant receiving services under criteria described in the LWDA Priority of Service policy and was there documentation to support that determination? (Y, N, N/A) (Note: N/A= Priority of Service was not applicable to the participant, participant was a Dislocated Worker or an Employed/Incumbent Worker referred by the employer).
A29: 15 | B29: 20 CFR Part 680 Section 600- 660 | C29: Is there a clear selection process/procedure followed when providing individualized services and training services when there is a waiting list and priority of service is engaged?
C30: NOTES (findings/issues)
B31: REQUIRED FORMS
A32: 16 | B32: 20 CFR 683.600, 20 CFR 181(c ), WIOA Sec. 188, 29 CFR 38.35-36 | C32: Was a signed and dated Grievance/Complaint and EEO/Discrimination Forms in the participant's case file? (Y, N).
A33: 17 | B33: 20 CFR 683.600, 20 CFR 181(c ), WIOA Sec. 188, 29 CFR 38.35-36 | C33: If yes to #16, did the Grievance/Complaint and EEO/Discrimination Forms include correct names and addresses for filing a grievance, appeal or EEO complaint? (Y, N,).
A34: 18 | B34: 34 CFR Part 99? FERPA | C34: Was a current signed Consent to Exchange Information form in the participant's case file?
C35: NOTES (findings/issues)
B36: BASIC CAREER SERVICES (that trigger participation only)
A37: 19 | B37: 20 CFR 678.430, 20 CFR 680.150, TEGL 03-15, WIOA Section 134 (c)(2)(A)(i)-(xi), TEGL 19-16 | C37: Was a basic career service activity entered in the State's VaWC? (Y, N) (Note: N = Participant did not receive a basic career service that required significant staff assistance. (If N, question 15 will be N/A).
A38: 20 | B38: 20 CFR 678.430, 20 CFR 680.150, TEGL 03-15, WIOA Section 134 (c)(2)(A)(i)-(xi), TEGL 19-16 | C38: If yes to #19, was documentation in the case file of the basic career service provided? (Y, N, N/A) (Note: N/A = Participant did not receive a basic career service that required significant staff assistance).
C39: NOTES (findings/issues)
B40: INDIVIDUALIZED CAREER SERVICES
...

Sheet OST
B2: Occupational Skills Training
B3: Occupational Skills Training: Training services for eligible individuals are typically provided by training providers who receive payment for their services through an IA. The ITA is a payment agreement established on behalf of a participant with a training provider. WIOA Title I adult and dislocated workers purchase training services from State eligible training providers they select in consultation with the career planner, which includes a discussion of program quality and performance information on the available eligible training providers. Contracts for services may be used in place of ITAs when the WDB decides there are an insufficient number of eligible training providers or when the WDB determines there is a training service of demonstrated effectiveness offered by a community-based organization, when the WDB determines it would be most appropriate to contract with an institution of higher education to provide training to multiple individuals in in-demand industry sectors or occupations or when the WDB is considering a pay-for-performance contract.
B10: Documentation reviewed:
B11: Local policies and procedures and local plan language on Occupational Skills Training
B12: Contracts with training providers (If LWDB determines that ITA's are not the best mechanism or there are not sufficient ETPs in local area to provide training via ITA)
B13: VaWC records
B15: Review Process:
B16: A. Obtain a copy of the current related policies and procedures and review to ensure that the local area is following their policies during implementation.
B17: B. Review the local area process for providing Occupational skills training and complete the appropriate checklist below.
B18: C. If the LWBD does contract directly with training providers, select a sample of two-three contracts to review. Complete the corresponding checklists.
B20: Individual Training Accounts
B21: Note: Use "Status" column to note the appropriate response (yes, no, n/a) related to each review criteria and provide necessary comments.
B22: Questions | H22: Status | J22: Comments
B23: The LWDA has policies and procedures in place on the provision of Occupational skills training for Adult, Dislocated Workers and Youth participants.
B24: ITAs are primary funding mechanism for occupational skills training for Adults and Dislocated workers.
B25: The local plan describes how the local area will provide occupational skills training for youth. (Use of ITAs or other methods such as contracts). | P25: Confirm they are following as outlined in the local plan (i.e., says they will use ITAs and they are doing so)
B26: ITAs may be used for occupational skills training for OSY participants (16-24). ( 20 CFR 681.550)
B27: If the LWDB has determined and stated that contracting is the preferred method for providing OST to ISY and OSY, the LWDB is the entity that procures training services and is responsible for developing and overseeing contracts with each training provider. (Procurement requirements must be followed and documented).
B28: IF ISY (18-21) receive occupational skills training, the youth are co-enrolled with the adult program and adult program funded ITAs are used to pay for training. (20 CFR 681.550)
B29: Participant files include documented assessment and determination of need for occupational skills training, information on training program and costs, Financial Aid awards, ITA, progress in training, and credential(s) earned.
B31: Contract with OST Providers | P31: Identify the training providers selected for review
B32: Note: Use "Status" column to note the appropriate response (yes, no, n/a) related to each review criteria and provide necessary comments.
B33: Questions | H33: Status | J33: Comments
B34: The LWDA has policies and procedures in place on the provision of Occupational skills training through contracts.
B35: Contracts for OST may be used under the following exceptions:
B36: When the services provided are OJT, customized training, incumbent worker training, or transitional jobs. (20 CFR 680.320 (a)(1)
B37: The LWDB has determined there are an insufficient number of eligible training providers in the local area to accomplish the purpose of a system of ITAs. The determination process must include a public comment period for interested providers of at least 30 days, and be described in the local plan. (20 CFR 680.320 (a)(2))
B38: The LWDB determines a training services program of demonstrated effectiveness is offered by CBO or private entity- the LWDB has developed criteria to be used in determining the demonstrated effectiveness, as it applies to individuals with barriers to employment. (20 CFR 680.320 (a)(3))
B39: The LWDB determines it would be most appropriate to contract with an institution of higher education or other provider of training services to facilitate training of multiple individuals in in-demand industry sectors or occupations, provided that the contract does not limit customer choice. (20 CFR 680.320 (a)(4))
B40: The LWDB is considering entering into a pay-for-performance contract, and the LWDB ensures that the contract is consistent with 20 CFR 683.510. (20 CFR 680.320 (a)(5))
B41: The LWDB should maintain Board minutes that detail discussion and determination that contract with training providers is appropriate based on one of the exceptions listed above and copies of all contracts with eligible training providers.
B42: Contracts should at least outline the types of training services to be provided, the cost of training, number of participants, and length of training.
B43: Contract Worksheet
B44: Note: Use "Status" column to note the appropriate response (yes, no, n/a) related to each review criteria and provide necessary comments.
B45: Questions | H45: Status | J45: Comments
B46: Length Of Time The Training Will Be Provided – The length of OJT/CT/IWT training contract is limited to the amount of time required for the individual to become proficient in the occupation for which training is provided. Consideration is given to the skill requirements of the occupation, the academic and occupational skill level of the participant, prior work experience, and the participant's individual employment plan. 20 CFR§680.700)(c)). Steps for determining duration must be documented in the local policies or plans. (WIOA Section 108(b)(4)(B))
B47: Training Outline/Plan- Listing Work Skills To Be Learned In the Position – A comprehensive list of work skills the trainee will learn during the contract period is a required part of the contract. Efforts should be made to develop programs which contribute to occupational development, upward mobility, development of new careers, and opportunities for nontraditional employment.
B48: Other Classroom Training – An outline of any other separate classroom training may be provided by the employer.
B49: OJT payments to employers– The contract should include the rate of wage reimbursement to be provided and payment terms. Typically, the reimbursement rate may be up to 50 percent of extraordinary costs (20 CFR §680.730). The Governor or WDB may increase the amount of the reimbursement from 50 percent up to 75 percent of the wage rate of a participant for a program if: 1. The Governor approves the increase with respect to a program carried out with funds reserved by the state (see State OJT policy); or 2. The WDB approves the increase with respect to a program carried out with funds allocated to a LWDA (WIOA Section 134(c)(3)(H)(i)).
B50: Employer’s Agreement To Maintain And Make Available Accurate And Complete Time And Attendance, Payroll And Other Records To Support Amounts Claimed By The Employer For Reimbursement Under The Contract – The employer must preserve all trainee payroll, fringe benefit, and personnel records (including time and attendance sheets normally kept by the employer for employees) for three years from the close of the applicable program year or longer if any litigation or audit has begun or any claim is instituted which involves these records. In that case, the employer shall retain the records beyond the three year period until the litigation, audit findings or claim has been resolved.
...

Sheet OJT
B2: Work-Based Training
B4: Work-Based Training: Work-based training activities (20CFR§680.700-.840) include On- the-Job Training, Customized Training and Incumbent Worker Training provided to Adult and Dislocated Workers. Work-Based Training may be included in the Adult/Dislocated Worker Participant Review or conducted as a separate review when sufficient numbers are present in VaWC reports for activities occurring in the period of review.
B7: Documentation reviewed:
B8: Local policies and procedures on Incumbent Worker training, Incumbent Worker Training, and Customized Training
B9: Participating Employer files (including applications and supporting documentation)
B10: VaWC records
B11: Sample of participant files
B13: Review Process:
B14: A. Obtain a copy of the current related policies and procedures and review to ensure that the local area is following their policies during implementation.
B15: B. Determine if the local area is providing one or more of these services. Select a sample of two-three employers for each type of training service provided and complete the checklists below.
B16: C. Select a sample of participants from the employers reviewed and review their VaWC record to ensure it is accurately entered into the VaWC.
B18: On-the-Job Training: OJT contracts shall be procured in accordance with all federal, state and local procurement policies and at a minimum shall contain or address the following information: occupation for which training is to be provided; length of time the training will be provided for based on skill gap assessment for not more than six months or 140 hours of work; wage rate to be paid to participant; reimbursement for OJT Training; training outline listing work skills to be learned in the position; other classroom training; employers agreement to maintain records and make available.
B21: OJT | Q21: Identify the employers selected for review
B22: Note: Enter yes, no, n/a related to each review criteria and provide necessary comments.
B23: Questions | H23: Status | J23: Comments
B24: The LWDA has policies and procedures in place on the implementation of OJT. The policy/procedures describe employer and participant eligibility (including employed workers), length of contracts, reimbursement rates, restriction on funds, etc.
B25: Employers have met the following criteria: **Have the personnel to provide adequate supervision and training: **Provide a minimum of 50% of the employee's wage throughout the training: **Provide benefits and working conditions at the same level and to the same extent as other trainees or employees working a similar length of time and doing the same type of work: **Not have a history or pattern of failing to provide OJT participants with continued long-term employment with wages, benefits, and working conditions that are equal to those provided to regular employees working a similar length of time and doing the same type of work; **Not have relocated from any location in the US within 120 days, if the relocation resulted in employees losing their job at the original location; **Not using OJT assignments to displace regular employees, or to replace any employee on layoff.
B27: Participants have met the following criteria: **Have met WIOA program eligibility criteria and are enrolled participants. **Have received an objective assessment and have a documented plan indicating the individual is in need of and can benefit from an OJT. **Have not been hired by the OJT employer.
B28: OJTs for Employed Workers- WIOA funds may be used to support employed workers if the following conditions are met: **The employee is not earning a self-sufficient wage as determined by LWDB policy. **The OJT relates to the introduction of new technologies, new production or service procedures, or a new job that requires additional literacy and numeracy or occupational and technical skills. **The OJT is provided through a contract with an employer or registered apprenticeship program sponsor.
B30: OJTs are directly related to an in-demand industry or occupation in the LWDA, or in another region to which participants are willing to relocate?
B31: Contract Worksheet | Q31: Identify the employers selected for review
B32: Note: Use "Status" column to note the appropriate response (yes, no, n/a) related to each review criteria and provide necessary comments.
B33: Questions | H33: Status | J33: Comments
B34: Length Of Time The Training Will Be Provided – The length of OJT/CT/IWT training contract is limited to the amount of time required for the individual to become proficient in the occupation for which training is provided. Consideration is given to the skill requirements of the occupation, the academic and occupational skill level of the participant, prior work experience, and the participant's individual employment plan. 20 CFR§680.700)(c)). Steps for determining duration must be documented in the local policies or plans. (WIOA Section 108(b)(4)(B))
B35: Training Outline/Plan- Listing Work Skills To Be Learned In the Position – A comprehensive list of work skills the trainee will learn during the contract period is a required part of the contract. Efforts should be made to develop programs which contribute to occupational development, upward mobility, development of new careers, and opportunities for nontraditional employment.
B36: Other Classroom Training – An outline of any other separate classroom training may be provided by the employer.
B37: OJT payments to employers– The contract should include the rate of wage reimbursement to be provided and payment terms. Typically, the reimbursement rate may be up to 50 percent of extraordinary costs (20 CFR §680.730). The Governor or WDB may increase the amount of the reimbursement from 50 percent up to 75 percent of the wage rate of a participant for a program if: 1. The Governor approves the increase with respect to a program carried out with funds reserved by the state (see State OJT policy); or 2. The WDB approves the increase with respect to a program carried out with funds allocated to a LWDA (WIOA Section 134(c)(3)(H)(i)).
B38: Employer’s Agreement To Maintain And Make Available Accurate And Complete Time And Attendance, Payroll And Other Records To Support Amounts Claimed By The Employer For Reimbursement Under The Contract – The employer must preserve all trainee payroll, fringe benefit, and personnel records (including time and attendance sheets normally kept by the employer for employees) for three years from the close of the applicable program year or longer if any litigation or audit has begun or any claim is instituted which involves these records. In that case, the employer shall retain the records beyond the three year period until the litigation, audit findings or claim has been resolved.
B39: Mandated written assurances- OJT contracts must include several standard assurances that are designed to acknowledge a contractor's responsibilities in accepting public funds for training.
B40: At the end of the training period, the employer intends to retain the trainee in the occupation and compensate the trainee for at least the hourly wage rate specified in the contract agreement.
B41: Individuals in on-the-job training must be provided benefits and working conditions at the same level and to the same extent as other trainees or employees working a similar length of time and doing the same type of work. (WIOA Sec. 181(b)(5))
B42: The employer will provide worker’s compensation coverage for the trainee and abide by health and safety standards established under State and Federal law. (WIOA Section 181(b)(4))
B43: The employer will provide worker’s compensation coverage for the trainee and abide by health and safety standards established under State and Federal law. (WIOA Section 181(b)(4))
B44: The employer will not discriminate against any trainee on the basis of race, color, religion, sex, national origin, age, disability, political affiliation or belief, and against beneficiaries on the basis of either citizenship/status as a lawfully admitted immigrant authorized to work in the United States or participation in any Workforce Investment Act Title I- financially assisted program or activity. (WIOA Section 188(a)(1), State WIOA Policy)
B45: The employer certifies that neither it nor its principals are presently debarred, suspended, proposed for debarment, declared ineligible, or voluntarily excluded from participation in this contract by any Federal department or agency.
... B53: Incumbent Training: The WDA may reserve up to 20 percent of their combined total of adult and dislocated worker allocations for incumbent worker training designed to meet the special requirements of an employer (including a group of employers) to retain a skilled workforce or avert the need to lay off employees by assisting the workers in obtaining the skills necessary to retain employment. Conducted with a commitment by the employer to retain or avert the layoffs of the incumbent worker(s) trained. Employers participating in incumbent worker training are required to pay the non-Federal share of the cost of providing training to their incumbent workers. Customized Training: Customized training is described as an activity designed to provide LWDAs with flexibility to ensure that training meets the unique needs of the job seekers and employers or groups of employers; that is conducted with a commitment by the employer to employ an individual upon successful completion of the training and for which the employer pays for a significant portion of the training cost as determined by the LWDB.
B61: Incumbent Worker / Customized Training | Q61: Identify the employers selected for review
B62: Note: Use "Status" column to note the appropriate response (yes, no, n/a) related to each review criteria and provide necessary comments.
B63: Questions | H63: Status | J63: Comments
B64: The LWDA has policies and procedures in place on the implementation of IWT. The policy/procedures describe employer and participant eligibility (including employed workers), length of contracts, reimbursement rates, restriction on funds, etc.
...

Sheet RPT
A1: 2016-2017 WIOA Programmatic Report Page Formula Youth | H1: 2016-2017 WOIA Programmatic Report Page Formula Adult and Dislocated Worker | O1: 2016-2017 WOIA Programmatic Report Page Formula Adult and Dislocated Worker
A3: PROGRAM ELIGIBILITY | H3: PROGRAM ELIGIBILITY | O3: MEASURABLE SKILLS GAIN
C5: OSY | D5: ISY | E5: Total | J5: Adult | K5: DW | L5: Total | Q5: Adult | R5: DW | S5: N/A | T5: Total
A6: 1 | B6: Indicate whether the youth is an Out-of-School Youth (OSY) or an In-School Youth (ISY). | C6: =COUNTIF(Youth!D7:R7,"OSY") -> 0 | D6: =COUNTIF(Youth!D7:R7,"ISY") -> 0 | E6: =C6+D6 -> 0 | H6: 1 | I6: Indicate whether the participant is an Adult (A) or Dislocated Worker (DW). | J6: =COUNTIF('Adult-DW'!D7:R7,"AD") -> 0 | K6: =COUNTIF('Adult-DW'!D7:R7,"DW") -> 0 | L6: =J6+K6 -> 0 | O6: 66 | P6: During the program year, was the participant in an education or training program that led to a recognized post secondary credential or employment and achieved measureable skill gains, defined as documented academic, technical, occupational, or other forms of progress, towards such a credential or employment? | Q6: =COUNTIF('Adult-DW'!D102:R102,"Y") -> 0 | R6: =COUNTIF('Adult-DW'!D102:R102,"N") -> 0 | S6: =COUNTIF('Adult-DW'!D102:R102,"N/A") -> 0 | T6: =R6+S6 -> 0
B7: Percent | C7: =IF(($C6+$D6)>0,C6/($C6+$D6),0) -> 0 | D7: =IF(($C6+$D6)>0,D6/($C6+$D6),0) -> 0 | I7: Percent | J7: =IF(($J6+$K6)>0,J6/($J6+$K6),0) -> 0 | K7: =IF(($J6+$K6)>0,K6/($J6+$K6),0) -> 0 | P7: Percent | Q7: =IF(($Q6+$R6)>0,Q6/($Q6+$R6),0) -> 0 | R7: =IF(($Q6+$R6)>0,R6/($Q6+$R6),0) -> 0 | S7: =IF(($Q6+$R6)>0,S6/($Q6+$R6),0) -> 0
C10: Yes | D10: No | E10: Total | J10: Yes | K10: No | L10: Total | Q10: Yes | R10: No | S10: N/A | T10: Total
A11: 2 | B11: Does the WIOA programs (case file) application date match the application date entered into the VaWC? (Y,N) | C11: =COUNTIF(Youth!D8:R8,"Y") -> 0 | D11: =COUNTIF(Youth!D8:R8,"N") -> 0 | E11: =C11+D11 -> 0 | H11: 2 | I11: Does the WIOA programs (case file) application date match the application date entered into the VaWC? (Y,N) | J11: =COUNTIF('Adult-DW'!D8:R8,"Y") -> 0 | K11: =COUNTIF('Adult-DW'!D8:R8,"N") -> 0 | L11: 0 | O11: 67 | P11: Were the measureable gains accurately entered in the VaWC Measureable Skills Gain Link? (Y,N, N/A). | Q11: =COUNTIF('Adult-DW'!D103:R103,"Y") -> 0 | R11: =COUNTIF('Adult-DW'!D103:R103,"N") -> 0 | S11: =COUNTIF('Adult-DW'!D103:R103,"N/A") -> 0 | T11: =R11+S11 -> 0
B12: Percent | C12: =IF(($C11+$D11)>0,C11/($C11+$D11),0) -> 0 | D12: =IF(($C11+$D11)>0,D11/($C11+$D11),0) -> 0 | I12: Percent | J12: =IF(($J11+$K11)>0,J11/($J11+$K11),0) -> 0 | K12: =IF(($J11+$K11)>0,K11/($J11+$K11),0) -> 0 | P12: Percent | Q12: =IF(($Q11+$R11)>0,Q11/($Q11+$R11),0) -> 0 | R12: =IF(($Q11+$R11)>0,R11/($Q11+$R11),0) -> 0 | S12: =IF(($Q11+$R11)>0,S11/($Q11+$R11),0) -> 0
C15: Yes | D15: No | E15: N/A | F15: Total | J15: Yes | K15: No | L15: N/A | M15: Total | Q15: Yes | R15: No | S15: N/A | T15: Total
A16: 3 | B16: Was documentation in the case file to verify school status? (Y, N, N/A) Applicable if participant enrolled on or after 7/1/2015. | C16: =COUNTIF(Youth!D9:R9,"Y") -> 0 | D16: =COUNTIF(Youth!D9:R9,"N") -> 0 | E16: =COUNTIF(Youth!D9:R9,"N/A") -> 0 | F16: =D16+E16 -> 0 | H16: 3 | I16: If a Dislocated Worker, did the case file contain documentation of lay-off, termination, plant closure, recently separated veteran or spouse of a recently separated veteran, spouse of a veteran on active duty or other eligible Dislocated Worker criteria? (Y, N, X) (Note: X=Participant was not a Dislocated Worker). | J16: =COUNTIF('Adult-DW'!D9:R9,"Y") -> 0 | K16: =COUNTIF('Adult-DW'!D9:R9,"N") -> 0 | L16: =COUNTIF('Adult-DW'!D9:R9,"N/A") -> 0 | M16: =K16+L16 -> 0 | O16: 68 | P16: Were the assessment results or Measureable Skills Gain results maintained in the participant's hard copy case file for each applicable program year? (Y,N, N/A). | Q16: =COUNTIF('Adult-DW'!D104:R104,"Y") -> 0 | R16: =COUNTIF('Adult-DW'!D104:R104,"N") -> 0 | S16: =COUNTIF('Adult-DW'!D104:R104,"N/A") -> 0 | T16: =R16+S16 -> 0
B17: Percent | C17: =IF(($C16+$D16)>0,C16/($C16+$D16),0) -> 0 | D17: =IF(($C16+$D16)>0,D16/($C16+$D16),0) -> 0 | E17: =IF(($C14+$D14)>0,E14/($C14+$D14),0) -> 0 | I17: Percent | J17: =IF(($J16+$K16)>0,J16/($J16+$K16),0) -> 0 | K17: =IF(($J16+$K16)>0,K16/($J16+$K16),0) -> 0 | L17: =IF(($Q16+$R16)>0,L16/($Q16+$R16),0) -> 0 | P17: Percent | Q17: =IF(($Q16+$R16)>0,Q16/($Q16+$R16),0) -> 0 | R17: =IF(($Q16+$R16)>0,R16/($Q16+$R16),0) -> 0 | S17: =IF(($Q16+$R16)>0,S16/($Q16+$R16),0) -> 0
O19: CREDENTIAL ATTAINMENT
C20: Yes | D20: No | E20: N/A | F20: Total | J20: Yes | K20: No | L20: N/A | M20: Total | Q20: Yes | R20: No | S20: N/A | T20: Total
A21: 4 | B21: Was documentation in the case file that the youth was determined eligible based on the total family income calculation, receipt of cash assistance, Supplemental Social Security Income, Social Security Disability Insurance, Food Stamps, or was disabled, living in a high poverty rate area, receives or is eligible for free or reduced lunch, a homeless/runaway or a foster child? (Y, N, N/A) ) Note: Low income determination is not required if the participant is an OSY and meets one or more of the barriers listed in WIOA Sec. 129 (a)(1)(B) . | C21: =COUNTIF(Youth!D10:R10,"Y") -> 0 | D21: =COUNTIF(Youth!D10:R10,"N") -> 0 | E21: =COUNTIF(Youth!D10:R10,"N/A") -> 0 | F21: =D21+E21 -> 0 | H21: 4 | I21: Was documentation in the case file that the participant was 18 years of age or older at registration? (Y, N). (Note: If DW, participant does not have to be 18; however, determination of age must be documented). | J21: =COUNTIF('Adult-DW'!D10:R10,"Y") -> 0 | K21: =COUNTIF('Adult-DW'!D10:R10,"N") -> 0 | L21: =COUNTIF('Adult-DW'!D10:R10,"N/A") -> 0 | M21: =K21+L21 -> 0 | O21: 69 | P21: Was a credential attainment entered in VaWC? (Y, N, N/A). (Note: N/A = Participant did not receive a credential). (If N/A, questions 70-71 will be N/A). | Q21: =COUNTIF('Adult-DW'!D107:R107,"Y") -> 0 | R21: =COUNTIF('Adult-DW'!D107:R107,"N") -> 0 | S21: =COUNTIF('Adult-DW'!D107:R107,"N/A") -> 0 | T21: =R21+S21 -> 0
B22: Percent | C22: =IF(($C21+$D21)>0,C21/($C21+$D21),0) -> 0 | D22: =IF(($C21+$D21)>0,D21/($C21+$D21),0) -> 0 | E22: =IF(($C19+$D19)>0,E19/($C19+$D19),0) -> 0 | I22: Percent | J22: =IF(($J21+$K21)>0,J21/($J21+$K21),0) -> 0 | K22: =IF(($J21+$K21)>0,K21/($J21+$K21),0) -> 0 | L22: =IF(($Q21+$R21)>0,L21/($Q21+$R21),0) -> 0 | P22: Percent | Q22: =IF(($Q21+$R21)>0,Q21/($Q21+$R21),0) -> 0 | R22: =IF(($Q21+$R21)>0,R21/($Q21+$R21),0) -> 0 | S22: =IF(($Q21+$R21)>0,S21/($Q21+$R21),0) -> 0
C25: Yes | D25: No | E25: N/A | F25: Total | J25: Yes | K25: No | L25: N/A | M25: Total | Q25: Yes | R25: No | S25: N/A | T25: Total
A26: 5 | B26: Was the participant determined eligible under the 5% income exception criteria and was documentation in the case file to support this program eligibility? (Y, N, N/A). | C26: =COUNTIF(Youth!D11:R11,"Y") -> 0 | D26: =COUNTIF(Youth!D11:R11,"N") -> 0 | E26: =COUNTIF(Youth!D11:R11,"N/A") -> 0 | F26: =C26+D26+E26 -> 0 | H26: 5 | I26: Was documentation in the case file of U.S. citizenship or authorization to work in the U.S.? (Y, N). | J26: =COUNTIF('Adult-DW'!D11:R11,"Y") -> 0 | K26: =COUNTIF('Adult-DW'!D11:R11,"N") -> 0 | L26: =COUNTIF('Adult-DW'!D11:R11,"N/A") -> 0 | M26: =J26+K26+L26 -> 0 | O26: 70 | P26: If yes, was documentation in the participant's case file to support the credential? (Y, N, N/A) (Note: N/A = no credential entered in VaWC). | Q26: =COUNTIF('Adult-DW'!D108:R108,"Y") -> 0 | R26: =COUNTIF('Adult-DW'!D108:R108,"N") -> 0 | S26: =COUNTIF('Adult-DW'!D108:R108,"N/A") -> 0 | T26: =Q26+R26+S26 -> 0
B27: Percent | C27: =IF(($C26+$D26)>0,C26/($C26+$D26),0) -> 0 | D27: =IF(($C26+$D26)>0,D26/($C26+$D26),0) -> 0 | E27: =IF(($C24+$D24)>0,E24/($C24+$D24),0) -> 0 | I27: Percent | J27: =IF(($J26+$K26)>0,J26/($J26+$K26),0) -> 0 | K27: =IF(($J26+$K26)>0,K26/($J26+$K26),0) -> 0 | L27: =IF(($Q26+$R26)>0,L26/($Q26+$R26),0) -> 0 | P27: Percent | Q27: =IF(($Q26+$R26)>0,Q26/($Q26+$R26),0) -> 0 | R27: =IF(($Q26+$R26)>0,R26/($Q26+$R26),0) -> 0 | S27: =IF(($Q26+$R26)>0,S26/($Q26+$R26),0) -> 0
C30: Yes | D30: No | E30: N/A | F30: Total | J30: Yes | K30: No | L30: N/A | M30: Total | Q30: Yes | R30: No | S30: N/A | T30: Total
A31: 6 | B31: Was documentation of age in the case file? (Y, N). (Note: In-School youth must be 14-21 and Out-Of-School youth must be 16-24 years of age). | C31: =COUNTIF(Youth!D12:R12,"Y") -> 0 | D31: =COUNTIF(Youth!D12:R12,"N") -> 0 | E31: =COUNTIF(Youth!D12:R12,"N/A") -> 0 | F31: =C31+D31+E31 -> 0 | H31: 6 | I31: Was selective service verification documentation in the case file at the time of registration or during participation? (Y, N, N/A) (Applicable to males born after 1960 who are over the age of 18 years at registration). | J31: =COUNTIF('Adult-DW'!D12:R12,"Y") -> 0 | K31: =COUNTIF('Adult-DW'!D12:R12,"N") -> 0 | L31: =COUNTIF('Adult-DW'!D12:R12,"N/A") -> 0 | M31: =J31+K31+L31 -> 0 | O31: 71 | P31: If yes, did the credential attainment date and type match the credential attainment information entered in the VaWC? (Y, N, N/A). | Q31: =COUNTIF('Adult-DW'!D109:R109,"Y") -> 0 | R31: =COUNTIF('Adult-DW'!D109:R109,"N") -> 0 | S31: =COUNTIF('Adult-DW'!D109:R109,"N/A") -> 0 | T31: =Q31+R31+S31 -> 0
B32: Percent | C32: =IF(($C31+$D31)>0,C31/($C31+$D31),0) -> 0 | D32: =IF(($C31+$D31)>0,D31/($C31+$D31),0) -> 0 | E32: =IF(($C29+$D29)>0,E29/($C29+$D29),0) -> 0 | I32: Percent | J32: =IF(($J31+$K31)>0,J31/($J31+$K31),0) -> 0 | K32: =IF(($J31+$K31)>0,K31/($J31+$K31),0) -> 0 | L32: =IF(($Q31+$R31)>0,L31/($Q31+$R31),0) -> 0 | P32: Percent | Q32: =IF(($Q31+$R31)>0,Q31/($Q31+$R31),0) -> 0 | R32: =IF(($Q31+$R31)>0,R31/($Q31+$R31),0) -> 0 | S32: =IF(($Q31+$R31)>0,S31/($Q31+$R31),0) -> 0
H34: Priority Population | O34: FOLLOW-UP SERVICES
C35: Yes | D35: No | E35: N/A | F35: Total | J35: Yes | K35: No | L35: N/A | M35: Total | Q35: Yes | R35: No | S35: N/A | T35: Total
A36: 7 | B36: Was documentation in the case file of U.S. citizenship or authorization to work in the U.S.? (Y, N). | C36: =COUNTIF(Youth!D13:R13,"Y") -> 0 | D36: =COUNTIF(Youth!D13:R13,"N") -> 0 | E36: =COUNTIF(Youth!D13:R13,"N/A") -> 0 | F36: =C36+D36+E36 -> 0 | H36: 7 | I36: Indicate whether the participant is meeting a barrier to employment. | J36: =COUNTIF('Adult-DW'!D15:R15,"Y") -> 0 | K36: =COUNTIF('Adult-DW'!D15:R15,"N") -> 0 | L36: =COUNTIF('Adult-DW'!D15:R15,"N/A") -> 0 | M36: =J36+K36+L36 -> 0 | O36: 72 | P36: Was follow-up services offered after the participant entered employment? (Y, N, N/A). If N/A then 67-69 will be N/A). | Q36: =COUNTIF('Adult-DW'!D112:R112,"Y") -> 0 | R36: =COUNTIF('Adult-DW'!D112:R112,"N") -> 0 | S36: =COUNTIF('Adult-DW'!D112:R112,"N/A") -> 0 | T36: =Q36+R36+S36 -> 0
B37: Percent | C37: =IF(($C36+$D36)>0,C36/($C36+$D36),0) -> 0 | D37: =IF(($C36+$D36)>0,D36/($C36+$D36),0) -> 0 | E37: =IF(($C34+$D34)>0,E34/($C34+$D34),0) -> 0 | I37: Percent | J37: =IF(($J36+$K36)>0,J36/($J36+$K36),0) -> 0 | K37: =IF(($J36+$K36)>0,K36/($J36+$K36),0) -> 0 | L37: =IF(($Q36+$R36)>0,L36/($Q36+$R36),0) -> 0 | P37: Percent | Q37: =IF(($Q36+$R36)>0,Q36/($Q36+$R36),0) -> 0 | R37: =IF(($Q36+$R36)>0,R36/($Q36+$R36),0) -> 0 | S37: =IF(($Q36+$R36)>0,S36/($Q36+$R36),0) -> 0
C40: Yes | D40: No | E40: N/A | F40: Total | J40: Yes | K40: No | L40: N/A | M40: Total | Q40: Yes | R40: No | S40: N/A | T40: Total
A41: 8 | B41: Was selective service verification documentation in the case file at the time of registration or during participation? (Y, N, N/A) (Applicable to males over the age of 18 years at registration). | C41: =COUNTIF(Youth!D14:R14,"Y") -> 0 | D41: =COUNTIF(Youth!D14:R14,"N") -> 0 | E41: =COUNTIF(Youth!D14:R14,"N/A") -> 0 | F41: =C41+D41+E41 -> 0 | H41: 8 | I41: Does the VaWC application capture the barrier? | J41: =COUNTIF('Adult-DW'!D16:R16,"Y") -> 0 | K41: =COUNTIF('Adult-DW'!D16:R16,"N") -> 0 | L41: =COUNTIF('Adult-DW'!D16:R16,"N/A") -> 0 | M41: =J41+K41+L41 -> 0 | O41: 73 | P41: If yes to 72, was a follow-up service entered in the VaWC? (Y, N, N/A) (Note: N/A = Participant's case is currently open, there is a case closure but participant has not exited the program, the participant declines to receive follow-up services or the participant cannot be located). | Q41: =COUNTIF('Adult-DW'!D113:R113,"Y") -> 0 | R41: =COUNTIF('Adult-DW'!D113:R113,"N") -> 0 | S41: =COUNTIF('Adult-DW'!D113:R113,"N/A") -> 0 | T41: =Q41+R41+S41 -> 0
B42: Percent | C42: =IF(($C41+$D41)>0,C41/($C41+$D41),0) -> 0 | D42: =IF(($C41+$D41)>0,D41/($C41+$D41),0) -> 0 | E42: =IF(($C39+$D39)>0,E39/($C39+$D39),0) -> 0 | I42: Percent | J42: =IF(($J41+$K41)>0,J41/($J41+$K41),0) -> 0 | K42: =IF(($J41+$K41)>0,K41/($J41+$K41),0) -> 0 | L42: =IF(($Q41+$R41)>0,L41/($Q41+$R41),0) -> 0 | P42: Percent | Q42: =IF(($Q41+$R41)>0,Q41/($Q41+$R41),0) -> 0 | R42: =IF(($Q41+$R41)>0,R41/($Q41+$R41),0) -> 0 | S42: =IF(($Q41+$R41)>0,S41/($Q41+$R41),0) -> 0
H44: EMPLOYED AT PARTICIPATION- SELF SUFFICIENCY DETERMINATION
C45: Yes | D45: No | E45: N/A | F45: Total | J45: Yes | K45: No | L45: N/A | M45: Total | Q45: Yes | R45: No | S45: N/A | T45: Total
A46: 9 | B46: Was documentation in the case file to support the federal or local barrier(s) entered in the VaWC? (Y, N) (Note: A barrier is required for all youth). | C46: =COUNTIF(Youth!D15:R15,"Y") -> 0 | D46: =COUNTIF(Youth!D15:R15,"N") -> 0 | E46: =COUNTIF(Youth!D15:R15,"N/A") -> 0 | F46: =D46+E46 -> 0 | H46: 9 | I46: Was the participant an employed worker/incumbent worker at the time of registration? (Y, N). (If No, questions 10 and 11 will be N/A). | J46: =COUNTIF('Adult-DW'!D19:R19,"Y") -> 0 | K46: =COUNTIF('Adult-DW'!D19:R19,"N") -> 0 | L46: =COUNTIF('Adult-DW'!D19:R19,"N/A") -> 0 | M46: =J46+K46+L46 -> 0 | O46: 74 | P46: If yes to #72, was documentation in the case file of a determination of need for follow-up services? (Y,N, N/A) (Note: N/A= Participant did not receive follow-up services). | Q46: =COUNTIF('Adult-DW'!D114:R114,"Y") -> 0 | R46: =COUNTIF('Adult-DW'!D114:R114,"N") -> 0 | S46: =COUNTIF('Adult-DW'!D114:R114,"N/A") -> 0 | T46: =Q46+R46+S46 -> 0
B47: Percent | C47: =IF(($C46+$D46)>0,C46/($C46+$D46),0) -> 0 | D47: =IF(($C46+$D46)>0,D46/($C46+$D46),0) -> 0 | E47: =IF(($C44+$D44)>0,E44/($C44+$D44),0) -> 0 | I47: Percent | J47: =IF(($J46+$K46)>0,J46/($J46+$K46),0) -> 0 | K47: =IF(($J46+$K46)>0,K46/($J46+$K46),0) -> 0 | L47: =IF(($J46+$K46)>0,L46/($J46+$K46),0) -> 0 | P47: Percent | Q47: =IF(($Q46+$R46)>0,Q46/($Q46+$R46),0) -> 0 | R47: =IF(($Q46+$R46)>0,R46/($Q46+$R46),0) -> 0
C49: Yes | D49: No | E49: N/A | F49: Total | J49: Yes | K49: No | L49: N/A | M49: Total | Q49: Yes | R49: No | S49: N/A | T49: Total
A50: 10 | B50: If the 5% Limitation for Youth Requires Additional Assistance was used, was supporting documentation found in the case file? (Y,N,N/A). Make sure that documentation meets local policy criteria. | C50: =COUNTIF(Youth!D16:R16,"Y") -> 0 | D50: =COUNTIF(Youth!D16:S16,"N") -> 0 | E50: =COUNTIF(Youth!D16:R16,"N/A") -> 0 | F50: =D50+E50 -> 0 | H50: 10 | I50: If yes to #9, and the participant was not referred by an employer, is there documentation in the case file indicating that the participant was not earning a self-sufficient wage at the time of registration, was in need of training services to obtain or retain employment leading to "self-sufficiency", and was the participant in agreement with the training selection? (Y, N, N/A) | J50: =COUNTIF('Adult-DW'!D20:R20,"Y") -> 0 | K50: =COUNTIF('Adult-DW'!D20:R20,"N") -> 0 | L50: =COUNTIF('Adult-DW'!D20:R20,"N/A") -> 0 | M50: =K50+L50 -> 0 | O50: 75 | P50: If yes to #72, was documentation in the case file of the follow-up service provided to the participant? (Y, N, N/A) (Note: N/A = Participant did not receive follow-up services). | Q50: =COUNTIF('Adult-DW'!D115:R115,"Y") -> 0 | R50: =COUNTIF('Adult-DW'!D115:R115,"N") -> 0 | S50: =COUNTIF('Adult-DW'!D115:R115,"N/A") -> 0 | T50: =R50+S50 -> 0
B51: Percent | C51: =IF(($C50+$D50)>0,C50/($C50+$D50),0) -> 0 | D51: =IF(($C50+$D50)>0,D50/($C50+$D50),0) -> 0 | E51: =IF(($C48+$D48)>0,E48/($C48+$D48),0) -> 0 | I51: Percent | J51: =IF(($J50+$K50)>0,J50/($J50+$K50),0) -> 0 | K51: =IF(($J50+$K50)>0,K50/($J50+$K50),0) -> 0 | L51: =IF(($J50+$K50)>0,L50/($J50+$K50),0) -> 0 | P51: Percent | Q51: =IF(($Q50+$R50)>0,Q50/($Q50+$R50),0) -> 0 | R51: =IF(($Q50+$R50)>0,R50/($Q50+$R50),0) -> 0 | S51: =IF(($Q50+$R50)>0,S50/($Q50+$R50),0) -> 0
O52: PROGRAM EXIT/ PERFORMANCE ACCOUNTABILITY
C53: Yes | D53: No | E53: N/A | F53: Total | J53: Yes | K53: No | L53: N/A | M53: Total | Q53: Yes | R53: No | S53: N/A | T53: Total
A54: 11 | B54: If the applicant is under 18 years of age, or 18 years of age and older with a legal guardian due to disability, did the application include the signature of a parent or legal guardian or was there a self-attestation from a parent or legal guardian in the case file? (Y, N, N/A) (Note: N/A = the youth is 18 years of age or greater or an emancipated minor). | C54: =COUNTIF(Youth!D17:R17,"Y") -> 0 | D54: =COUNTIF(Youth!D17:R17,"N") -> 0 | E54: =COUNTIF(Youth!D17:R17,"N/A") -> 0 | F54: =D54+E54 -> 0 | H54: 11 | I54: If yes to #9, and the participant was referred by an employer, is there documentation in the case file from the employer indicating the participant was in need of WIOA training services in order to obtain or retain employment that leads to self-sufficiency or to avert layoffs as described in local policy? (Y, N, N/A) | J54: =COUNTIF('Adult-DW'!D21:R21,"Y") -> 0 | K54: =COUNTIF('Adult-DW'!D21:R21,"N") -> 0 | L54: =COUNTIF('Adult-DW'!D21:R21,"N/A") -> 0 | M54: =K54+L54 -> 0 | O54: 76 | P54: Was the participant exited in the VaWC? (Y, N) (N = Case is open or there is a WIOA case closure but no exit) (If No, questions 76 through 80 will be N/A). | Q54: =COUNTIF('Adult-DW'!D118:R118,"Y") -> 0 | R54: =COUNTIF('Adult-DW'!D118:R118,"N") -> 0 | S54: =COUNTIF('Adult-DW'!D118:R118,"N/A") -> 0 | T54: =R54+S54 -> 0
B55: Percent | C55: =IF(($C54+$D54)>0,C54/($C54+$D54),0) -> 0 | D55: =IF(($C54+$D54)>0,D54/($C54+$D54),0) -> 0 | E55: =IF(($C52+$D52)>0,E52/($C52+$D52),0) -> 0 | I55: Percent | J55: =IF(($J54+$K54)>0,J54/($J54+$K54),0) -> 0 | K55: =IF(($J54+$K54)>0,K54/($J54+$K54),0) -> 0 | L55: =IF(($J54+$K54)>0,L54/($J54+$K54),0) -> 0 | P55: Percent | Q55: =IF(($Q54+$R54)>0,Q54/($Q54+$R54),0) -> 0 | R55: =IF(($Q54+$R54)>0,R54/($Q54+$R54),0) -> 0 | S55: =IF(($Q54+$R54)>0,S54/($Q54+$R54),0) -> 0
A57: VETERANS | H57: VETERANS
...

Sheet Yth Results
B2: Youth Results
B3: State ID | C3: File Status | D3: Issue | E3: Notes
A4: 1 | B4: =Youth!D4 -> 0 | C4: =Youth!D5 -> 0 | D4: Program Eligibility | E4: =Youth!D18 -> 0
D5: Forms | E5: =Youth!D26 -> 0
D6: Obj. Assess/ ISS | E6: =Youth!D34 -> 0
D7: Work Experience | E7: =Youth!D48 -> 0
D8: Occ. Skills Training | E8: =Youth!D55 -> 0
D9: Supportive Service | E9: =Youth!D65 -> 0
D10: Meas. Skills Gains | E10: =Youth!D70 -> 0
D11: Credentials | E11: =Youth!D75 -> 0
D12: Program Closure | E12: =Youth!D82 -> 0
D13: Follow-up | E13: =Youth!D88 -> 0
D14: Qtrly Follow-up | E14: =Youth!D93 -> 0
A15: 2 | B15: =Youth!E4 -> 0 | C15: =Youth!E5 -> 0 | D15: Program Eligibility | E15: =Youth!E18 -> 0
D16: Forms | E16: =Youth!E26 -> 0
D17: Obj. Assess/ ISS | E17: =Youth!E34 -> 0
D18: Work Experience | E18: =Youth!E48 -> 0
D19: Occ. Skills Training | E19: =Youth!E55 -> 0
D20: Supportive Service | E20: =Youth!E65 -> 0
D21: Meas. Skills Gains | E21: =Youth!E70 -> 0
D22: Credentials | E22: =Youth!E75 -> 0
D23: Program Closure | E23: =Youth!E82 -> 0
D24: Follow-up | E24: =Youth!E88 -> 0
D25: Qtrly Follow-up | E25: =Youth!E93 -> 0
A26: 3 | B26: =Youth!F4 -> 0 | C26: =Youth!F5 -> 0 | D26: Program Eligibility | E26: =Youth!F18 -> 0
D27: Forms | E27: =Youth!F26 -> 0
D28: Obj. Assess/ ISS | E28: =Youth!F34 -> 0
D29: Work Experience | E29: =Youth!F48 -> 0
D30: Occ. Skills Training | E30: =Youth!F55 -> 0
D31: Supportive Service | E31: =Youth!F65 -> 0
D32: Meas. Skills Gains | E32: =Youth!F70 -> 0
D33: Credentials | E33: =Youth!F75 -> 0
D34: Program Closure | E34: =Youth!F82 -> 0
D35: Follow-up | E35: =Youth!F88 -> 0
D36: Qtrly Follow-up | E36: =Youth!F93 -> 0
A37: 4 | B37: =Youth!G4 -> 0 | C37: =Youth!G5 -> 0 | D37: Program Eligibility | E37: =Youth!G18 -> 0
D38: Forms | E38: =Youth!G26 -> 0
D39: Obj. Assess/ ISS | E39: =Youth!G34 -> 0
D40: Work Experience | E40: =Youth!G48 -> 0
D41: Occ. Skills Training | E41: =Youth!G55 -> 0
...

Sheet AD-DW Results
B2: ADULT - DW
B3: State ID | C3: File Status | D3: Issue | E3: Notes
A4: 1 | B4: ='Adult-DW'!D4 -> 0 | C4: ='Adult-DW'!D5 -> 0 | D4: Program Eligibility | E4: ='Adult-DW'!D13 -> 0
D5: Priority Pop- Barriers | E5: ='Adult-DW'!D17 -> 0
D6: Self-Sufficiency | E6: ='Adult-DW'!D22 -> 0
D7: Veterans Priority | E7: ='Adult-DW'!D26 -> 0
D8: AD Priority of Service | E8: ='Adult-DW'!D30 -> 0
D9: Required Forms | E9: ='Adult-DW'!D35 -> 0
D10: Basic Career Services | E10: ='Adult-DW'!D39 -> 0
D11: Individ.Career Services | E11: ='Adult-DW'!D44 -> 0
D12: Work Experience | E12: ='Adult-DW'!D53 -> 0
D13: Transitional Jobs | E13: ='Adult-DW'!D60 -> 0
D14: Training Services | E14: ='Adult-DW'!D68 -> 0
D15: Registered App | E15: ='Adult-DW'!D71 -> 0
D16: Adult Ed & Literacy | E16: ='Adult-DW'!D74 -> 0
D17: Contract Training | E17: ='Adult-DW'!D90 -> 0
D18: Support Services | E18: ='Adult-DW'!D100 -> 0
D19: Measurable Skills Gain | E19: ='Adult-DW'!D105 -> 0
D20: Credential Attainment | E20: ='Adult-DW'!D110 -> 0
D21: Follow-up Services | E21: ='Adult-DW'!D116 -> 0
D22: Program Exit/Perform | E22: ='Adult-DW'!D123 -> 0
D23: Quarterly Follow-ups | E23: ='Adult-DW'!D128 -> 0
A24: 2 | B24: ='Adult-DW'!E4 -> 0 | C24: ='Adult-DW'!E5 -> 0 | D24: Program Eligibility | E24: ='Adult-DW'!E13 -> 0
D25: Priority Pop- Barriers | E25: ='Adult-DW'!E17 -> 0
D26: Self-Sufficiency | E26: ='Adult-DW'!E22 -> 0
D27: Veterans Priority | E27: ='Adult-DW'!E26 -> 0
D28: AD Priority of Service | E28: ='Adult-DW'!E30 -> 0
D29: Required Forms | E29: ='Adult-DW'!E35 -> 0
D30: Basic Career Services | E30: ='Adult-DW'!E39 -> 0
D31: Individ.Career Services | E31: ='Adult-DW'!E44 -> 0
D32: Work Experience | E32: ='Adult-DW'!E53 -> 0
D33: Transitional Jobs | E33: ='Adult-DW'!E60 -> 0
D34: Training Services | E34: ='Adult-DW'!E68 -> 0
D35: Registered App | E35: ='Adult-DW'!E71 -> 0
D36: Adult Ed & Literacy | E36: ='Adult-DW'!E74 -> 0
D37: Contract Training | E37: ='Adult-DW'!E90 -> 0
D38: Support Services | E38: ='Adult-DW'!E100 -> 0
D39: Measurable Skills Gain | E39: ='Adult-DW'!E105 -> 0
D40: Credential Attainment | E40: ='Adult-DW'!E110 -> 0
D41: Follow-up Services | E41: ='Adult-DW'!E116 -> 0
...

Sheet File Sample
A1: Formula Youth | H1: Formula Adult and Dislocated Worker
B2: Last Name | C2: First Name | D2: State ID/EFM ID | E2: Funding Stream | F2: Case ID | I2: Last Name | J2: First Name | K2: State ID/EFM ID | L2: Funding Stream | M2: Case ID
A3: 1 | H3: 1
A4: 2 | H4: 2
A5: 3 | H5: 3
A6: 4 | H6: 4
A7: 5 | H7: 5
A8: 6 | H8: 6
A9: 7 | H9: 7
A10: 8 | H10: 8
A11: 9 | H11: 9
A12: 10 | H12: 10
A13: 11 | H13: 11
A14: 12 | H14: 12
... A52: 50 | H52: 50
H53: 51
H54: 52
H55: 53
H56: 54
H57: 55
H58: 56
H59: 57
H60: 58
H61: 59
H62: 60

Sheet Sheet1
A1: SELECT Local Workforce Development Board:
A2: Region 1 - Southwest Virginia | C2: SELECT Reviewer Name: | F2: Y
A3: Region 2 - New River/Mt. Rogers | C3: Reviewer Name: Deirdre McGuirl | F3: N | I3: X
A4: Region 3 - Western Virginia | C4: Reviewer Name: Monica Long | F4: N/A | G4: OSY | H4: A | I4: OJT
A5: Region 4 - Shenandoah Valley | C5: Reviewer Name: Michelle Simmons | G5: ISY | H5: DW | I5: CT | O5: A. Displaced homemakers.
A6: Region 6 - Piedmont Workforce Network | C6: Reviewer Name: Vicki Tanner | I6: IWT | O6: B. Low-income individuals.
A7: Region 7 - Region 2000 | O7: C. Indians, Alaska Natives, and Native Hawaiians, as such terms are defined in section 166.
A8: Region 8- South Central | O8: D. Individuals with disabilities, including youth who are individuals with disabilities.
A9: Region 9 - Capital Region | O9: E. Older individuals.
A10: Region 11 - Northern Virginia | O10: F. Ex-offenders.
A11: Region 12 - Alexandria/Arlington | O11: G. Homeless individuals
A12: Region 13 - Bay Consortium | O12: H. Youth who are in or have aged out of the foster care system.
A13: Region 14 - Greater Peninsula | O13: I. Individuals who are English language learners, have low levels of literacy, facing substantial cultural barriers.
A14: Region 15 - Crater Area | O14: J. Eligible migrant and seasonal farmworkers, as defined in section 167(i).
A15: Region 16 - Hampton roads | O15: K. Individuals within 2 years of exhausting lifetime eligibility
A16: Region 17 - West Piedmont | O16: L. Single parents (including single pregnant women).
O17: M. Long-term unemployed individuals.
O18: N. Such other groups as the Governor involved determines to have barriers to employment.
A21: 1. Tutoring
A22: 2. Alternative secondary school
A23: 3. Paid/unpaid work experience
A24: 4. Occupational skills training
A25: 5. Education w/workforce preparation and training
A26: 6. Leadership Dev.
A27: 7. Support service
A28: 8. Adult mentoring
A29: 9. Follow-up
A30: 10. Comprehensive Guidance & Counseling
A31: 11. Financial Literacy
A32: 12. Entrepreneurial skills training
... A40: Case notes
