Workbook
Name CLEAN_UAT_File___txt: 'H-1B Master Database'!$C$10:$CM$23

Sheet H-1B Master Database
C1: H-1B WIPS Sample Database
B2: This highlighted cells represent a sample data file (in Excel format) for 25 participants to illustrate how each H-1B Data Element is listed as a column across the spreadsheet.
B3: Each Data Element is a required data field that must be entered for each participant's activities, depending on the Data Element's Code Values, and each row is a participant record.
B4: The highlighted is a sample raw data file that will be uploaded into the WIPS System.
B5: *Please note, headings should not be include in your csv data file.
B8: Data Number (D_E_ID) | C8: 100 | D8: 101 | E8: 105 | F8: 106 | G8: 107 | H8: 200 | I8: 201 | J8: 202 | K8: 210 | L8: 211 | M8: 212 | N8: 213 | O8: 214 | P8: 215 | Q8: 301 | R8: 400 | S8: 402 | T8: 407 | U8: 408 | V8: 801 | W8: 802 | X8: 803 | Y8: 900 | Z8: 901 | AA8: 902 | AB8: 904 | AC8: 907 | AD8: 923 | AE8: 931 | AF8: 935 | AG8: 938 | AH8: 1203 | AI8: 1205 | AJ8: 1300 | AK8: 1302 | AL8: 1303 | AM8: 1306 | AN8: 1307 | AO8: 1308 | AP8: 1309 | AQ8: 1310 | AR8: 1311 | AS8: 1312 | AT8: 1313 | AU8: 1314 | AV8: 1315 | AW8: 1316 | AX8: 1317 | AY8: 1318 | AZ8: 1328 | BA8: 1332 | BB8: 1401 | BC8: 1409 | BD8: 1800 | BE8: 1801 | BF8: 1802 | BG8: 1803 | BH8: 1804 | BI8: 1805 | BJ8: 1809 | BK8: 1810 | BL8: 1811 | BM8: 1813 | BN8: 2101 | BO8: 2102 | BP8: 2103 | BQ8: 2104 | BR8: 2105 | BS8: 2106 | BT8: 2107 | BU8: 2108 | BV8: 2109 | BW8: 2110 | BX8: 2111 | BY8: 2112 | BZ8: 2113 | CA8: 2114 | CB8: 2115 | CC8: 2116 | CD8: 2117 | CE8: 2118 | CF8: 2119 | CG8: 2120 | CH8: 2121 | CI8: 2122 | CJ8: 2123 | CK8: 2124 | CL8: 2126 | CM8: 2700
B9: Data Element Name | C9: Unique Individual Identifier | D9: State Code of Residence | E9: Special Project ID - 1 | F9: Special Project ID - 2 | G9: Special Project ID - 3 | H9: Date of Birth | I9: Sex | J9: Individual with a Disability | K9: Ethnicity: Hispanic/ Latino | L9: American Indian /Alaska Native | M9: Asian | N9: Black/ African American | O9: Native Hawaiian/ other Pacific Islander | P9: White | Q9: Eligible Veteran Status | R9: Employment Status at Program Entry | S9: Long-Term Unemployed at Program Entry (WIOA) | T9: Highest School Grade Completed at Program Entry (WIOA) | U9: Highest Educational Level Completed at Program Entry (WIOA) | V9: Ex-Offender Status at Program Entry (WIOA) | W9: Low Income Status at Program Entry (WIOA) | X9: English Language Learner at Program Entry (WIOA) | Y9: Date of Program Entry | Z9: Date of Program Exit (WIOA) | AA9: Date of First Case Management and Employment Service | AB9: Dislocated Worker (WIOA) | AC9: Recipient of Incumbent Worker Training | AD9: Other Reasons for Exit (WIOA) | AE9: Registered Apprenticeship Program | AF9: Accountability Exit Status | AG9: H-1B | AH9: Most Recent Date Received Internship or Work Experience opportunitiese | AI9: Type of Work Experience | AJ9: Received Training (WIOA) | AK9: Date Entered Training #1 | AL9: Type of Training Service #1 (WIOA) | AM9: Occupational Skills Training Code #1 | AN9: Training Completed #1 | AO9: Date Completed, or Withdrew from, Training #1 | AP9: Date Entered Training #2 | AQ9: Type of Training Service #2 (WIOA) | AR9: Occupational Skills Training Code #2 | AS9: Training Completed #2 | AT9: Date Completed, or Withdrew from, Training #2 | AU9: Date Entered Training #3 | AV9: Type of Training Service #3 (WIOA) | AW9: Occupational Skills Training Code #3 | AX9: Training Completed #3 | AY9: Date Completed, or Withdrew from, Training #3 | AZ9: Distance Learning | BA9: Participated in Postsecondary Education During Program Participation (WIOA) | BB9: Enrolled in Secondary Education Program at Program Entry (WIOA) | BC9: Most Recent Date Received Supportive Services | BD9: Type of Recognized Credential (WIOA) | BE9: Date Attained Recognized Credential (WIOA) | BF9: Type of Recognized Credential #2 (WIOA | BG9: Date Attained Recognized Credential #2 (WIOA) | BH9: Type of Recognized Credential #3 (WIOA) | BI9: Date Attained Recognized Credential #3 (WIOA) | BJ9: Date of Most Recent Measurable Skill Gains: Training Milestone (WIOA) | BK9: Date of Most Recent Measurable Skill Gains: Skills Progression (WIOA) | BL9: Date Enrolled During Program Participation in an Education or Training Program Leading to a Recognized Postsecondary Credential or Employment (WIOA) | BM9: Date Completed, During Program Participation, an Education or Training Program Leading to a Recognized Postsecondary Credential or Employment (WIOA) | BN9: Underemployed Worker | BO9: Previous Quarter Received Case Management Service | BP9: Most Recent Date Received Assessment Services | BQ9: Previous Quarter Received Assessment Services | BR9: Previous Quarter Received Supportive Services | BS9: Most Recent Date Received Specialized Participant Services | BT9: Previous Quarter Received Specialized Services | BU9: Previous Quarter Participated in Work Experience | BV9: Primary Type of Training Service for Training Activity #1 | BW9: Secondary Type of Training Service for Training Activity #1 | BX9: Tertiary Type of Training Service for Training Activity #1 | BY9: Primary Type of Training Service for Training Activity #2 | BZ9: Secondary Type of Training Service for Training Activity #2 | CA9: Tertiary Type of Training Service for Training Activity #2 | CB9: Primary Type of Training Service for Training Activity #3 | CC9: Secondary Type of Training Service for Training Activity #3 | CD9: Tertiary Type of Training Service for Training Activity #3 | CE9: Date Entered Employment (Discretionary Grants) | CF9: Incumbent Workers Retained Current Position | CG9: Incumbent Workers Advanced into a New Position with Current or New Employer in the 1st Quarter after Completion | CH9: Incumbent Workers Retained Current Position in the 2nd Quarter after Program Completion | CI9: Incumbent Workers Advanced into a New Position with Current Employer or New Employer in the 2nd Quarter after Training Program Completion | CJ9: Incumbent Workers Retained Current Position in the 3rd Quarter After Program Completion | CK9: Incumbent Workers Advanced into a New Position with Current or New Employer in the 3rd Quarter after Training Program Completio | CL9: Entered Training-Related Employment | CM9: Social Security Number
B10: Participant 1 | C10: 100000000001 | D10: MA | H10: 19900601 | I10: 1 | J10: 0 | K10: 0 | L10: 0 | M10: 0 | N10: 1 | O10: 0 | P10: 0 | Q10: 1 | R10: 0 | S10: 0 | T10: 12 | U10: 3 | V10: 0 | W10: 1 | X10: 0 | Y10: 20170401 | Z10: 20170901 | AA10: 20170511 | AB10: 0 | AC10: 0 | AD10: 00 | AE10: 0 | AF10: 1 | AG10: HG295321660A25 | AH10: 20170801 | AI10: 2 | AJ10: 1 | AK10: 20170407 | AL10: 02 | AM10: 15115200 | AN10: 1 | AO10: 20170501 | AP10: 20170601 | AQ10: 01 | AR10: 15115200 | AS10: 1 | AT10: 20170630 | AU10: 20170615 | AV10: 05 | AW10: 15115200 | AX10: 1 | AY10: 20170715 | AZ10: 1 | BA10: 0 | BB10: 0 | BC10: 20170903 | BD10: 1 | BE10: 20170501 | BF10: 2 | BG10: 20170630 | BH10: 3 | BI10: 20170715 | BJ10: 20170715 | BK10: 20170801 | BL10: 20170615 | BM10: 20180513 | BN10: 0 | BO10: 0 | BP10: 20170901 | BQ10: 1 | BR10: 1 | BS10: 20170605 | BT10: 0 | BU10: 1 | BV10: 4 | BW10: 3 | BY10: 1 | BZ10: 5 | CA10: 7 | CB10: 5 | CC10: 1 | CD10: 3 | CE10: 20170829 | CL10: 20180528 | CM10: 999999999
B11: Participant 2 | C11: 100000000002 | D11: FL | H11: 19900602 | I11: 1 | J11: 0 | K11: 0 | L11: 0 | M11: 0 | N11: 1 | O11: 0 | P11: 0 | Q11: 2 | R11: 0 | S11: 0 | T11: 12 | U11: 3 | V11: 0 | W11: 1 | X11: 0 | Y11: 20170402 | Z11: 20170901 | AA11: 20170512 | AB11: 0 | AC11: 0 | AD11: 00 | AE11: 0 | AF11: 1 | AG11: HG295321660A25 | AH11: 20170801 | AI11: 3 | AJ11: 1 | AK11: 20170408 | AL11: 02 | AM11: 15113100 | AN11: 1 | AO11: 20170502 | AP11: 20170601 | AQ11: 01 | AR11: 15115200 | AS11: 1 | AT11: 20170630 | AU11: 20170615 | AV11: 05 | AW11: 15115200 | AX11: 1 | AY11: 20170715 | AZ11: 1 | BA11: 0 | BB11: 0 | BC11: 20170501 | BD11: 2 | BE11: 20170502 | BF11: 3 | BG11: 20170630 | BH11: 4 | BI11: 20170715 | BJ11: 20170715 | BK11: 20170801 | BL11: 20170615 | BM11: 20180513 | BN11: 0 | BO11: 0 | BP11: 20170902 | BQ11: 1 | BR11: 0 | BS11: 20170606 | BT11: 0 | BU11: 1 | BV11: 4 | BW11: 3 | BY11: 1 | BZ11: 5 | CA11: 7 | CB11: 5 | CC11: 1 | CD11: 3 | CE11: 20170829 | CL11: 20180528 | CM11: 999999999
B12: Participant 3 | C12: 100000000003 | D12: CA | H12: 19900603 | I12: 1 | J12: 0 | K12: 0 | L12: 0 | M12: 0 | N12: 0 | O12: 1 | P12: 0 | Q12: 3 | R12: 0 | S12: 0 | T12: 12 | U12: 3 | V12: 0 | W12: 1 | X12: 0 | Y12: 20170403 | Z12: 20170901 | AA12: 20170513 | AB12: 0 | AC12: 0 | AD12: 00 | AE12: 0 | AF12: 0 | AG12: HG295321660A25 | AH12: 20170801 | AI12: 4 | AJ12: 1 | AK12: 20170409 | AL12: 02 | AM12: 15115200 | AN12: 1 | AO12: 20170503 | AP12: 20170601 | AQ12: 01 | AR12: 15115200 | AS12: 1 | AT12: 20170630 | AU12: 20170615 | AV12: 05 | AW12: 15115200 | AX12: 1 | AY12: 20170715 | AZ12: 0 | BA12: 0 | BB12: 0 | BC12: 20170804 | BD12: 3 | BE12: 20170503 | BF12: 4 | BG12: 20170630 | BH12: 5 | BI12: 20170715 | BJ12: 20170715 | BK12: 20170801 | BL12: 20170615 | BM12: 20180513 | BN12: 0 | BO12: 0 | BP12: 20170903 | BQ12: 1 | BR12: 1 | BS12: 20170607 | BT12: 0 | BU12: 1 | BV12: 2 | BW12: 5 | BY12: 1 | BZ12: 5 | CA12: 7 | CB12: 5 | CC12: 1 | CD12: 3 | CE12: 20170829 | CL12: 20180528 | CM12: 111111113
B13: Participant 4 | C13: 100000000004 | D13: AZ | H13: 19900604 | I13: 1 | J13: 0 | K13: 0 | L13: 0 | M13: 0 | N13: 0 | O13: 0 | P13: 1 | Q13: 0 | R13: 0 | S13: 0 | T13: 0 | U13: 2 | V13: 0 | W13: 1 | X13: 0 | Y13: 20170404 | Z13: 20170901 | AA13: 20170514 | AB13: 0 | AC13: 0 | AD13: 00 | AE13: 0 | AF13: 0 | AG13: HG295321660A25 | AH13: 20170801 | AI13: 7 | AJ13: 1 | AK13: 20170410 | AL13: 02 | AM13: 15113100 | AN13: 1 | AO13: 20170504 | AP13: 20170601 | AQ13: 01 | AR13: 15115200 | AS13: 1 | AT13: 20170630 | AU13: 20170615 | AV13: 05 | AW13: 15115200 | AX13: 1 | AY13: 20170715 | AZ13: 0 | BA13: 0 | BB13: 0 | BD13: 4 | BE13: 20170504 | BF13: 5 | BG13: 20170630 | BH13: 6 | BI13: 20170715 | BJ13: 20170715 | BK13: 20170801 | BL13: 20170615 | BM13: 20180513 | BN13: 0 | BO13: 0 | BP13: 20170904 | BQ13: 1 | BR13: 0 | BS13: 20170608 | BT13: 0 | BU13: 1 | BV13: 2 | BW13: 5 | BY13: 1 | BZ13: 5 | CA13: 7 | CB13: 5 | CC13: 1 | CD13: 3 | CE13: 20170829 | CL13: 20180528 | CM13: 111111114
B14: Participant 5 | C14: 100000000005 | D14: CO | H14: 19900605 | I14: 1 | J14: 0 | K14: 0 | L14: 0 | M14: 0 | N14: 0 | O14: 0 | P14: 1 | Q14: 0 | R14: 0 | S14: 0 | T14: 0 | U14: 2 | V14: 0 | W14: 1 | X14: 0 | Y14: 20170405 | Z14: 20170901 | AA14: 20170515 | AB14: 0 | AC14: 0 | AD14: 00 | AE14: 0 | AF14: 0 | AG14: HG295321660A25 | AH14: 20170801 | AI14: 2 | AJ14: 1 | AK14: 20170411 | AL14: 02 | AM14: 15115200 | AN14: 1 | AO14: 20170505 | AP14: 20170601 | AQ14: 01 | AR14: 15115200 | AS14: 1 | AT14: 20170630 | AU14: 20170615 | AV14: 05 | AW14: 15115200 | AX14: 1 | AY14: 20170715 | AZ14: 0 | BA14: 0 | BB14: 0 | BD14: 5 | BE14: 20170505 | BF14: 6 | BG14: 20170630 | BH14: 7 | BI14: 20170715 | BJ14: 20170715 | BK14: 20170801 | BL14: 20170615 | BM14: 20180513 | BN14: 0 | BO14: 0 | BP14: 20170905 | BQ14: 1 | BR14: 0 | BS14: 20170609 | BT14: 0 | BU14: 1 | BV14: 2 | BW14: 5 | BY14: 1 | BZ14: 5 | CA14: 7 | CB14: 5 | CC14: 1 | CD14: 3 | CE14: 20170829 | CL14: 20180528 | CM14: 111111115
B15: Participant 6 | C15: 100000000006 | D15: SC | H15: 19900606 | I15: 1 | J15: 0 | K15: 0 | L15: 0 | M15: 0 | N15: 0 | O15: 0 | P15: 1 | Q15: 0 | R15: 0 | S15: 0 | T15: 0 | U15: 2 | V15: 0 | W15: 1 | X15: 0 | Y15: 20170406 | Z15: 20170901 | AA15: 20170516 | AB15: 0 | AC15: 0 | AD15: 00 | AE15: 0 | AF15: 0 | AG15: HG295321660A25 | AH15: 20170801 | AI15: 3 | AJ15: 1 | AK15: 20170412 | AL15: 05 | AM15: 15113100 | AN15: 1 | AO15: 20170506 | AP15: 20170601 | AQ15: 01 | AR15: 15115200 | AS15: 1 | AT15: 20170630 | AU15: 20170615 | AV15: 05 | AW15: 15115200 | AX15: 1 | AY15: 20170715 | AZ15: 0 | BA15: 0 | BB15: 0 | BD15: 6 | BE15: 20170506 | BF15: 7 | BG15: 20170630 | BH15: 1 | BI15: 20170715 | BJ15: 20170715 | BK15: 20170801 | BL15: 20170615 | BM15: 20180513 | BN15: 0 | BO15: 0 | BP15: 20170906 | BQ15: 1 | BR15: 0 | BS15: 20170610 | BT15: 0 | BU15: 1 | BV15: 2 | BW15: 5 | BY15: 1 | BZ15: 5 | CA15: 7 | CB15: 5 | CC15: 1 | CD15: 3 | CE15: 20170829 | CL15: 20180528 | CM15: 111111116
B16: Participant 7 | C16: 100000000007 | D16: TN | H16: 19900607 | I16: 2 | J16: 0 | K16: 0 | L16: 0 | M16: 0 | N16: 0 | O16: 0 | P16: 1 | Q16: 0 | R16: 0 | S16: 0 | T16: 12 | U16: 1 | V16: 0 | W16: 1 | X16: 0 | Y16: 20170407 | Z16: 20170901 | AA16: 20170517 | AB16: 0 | AC16: 0 | AD16: 00 | AE16: 0 | AF16: 0 | AG16: HG295321660A25 | AH16: 20170501 | AI16: 4 | AJ16: 1 | AK16: 20170413 | AL16: 05 | AM16: 15115200 | AN16: 1 | AO16: 20170507 | AP16: 20170601 | AQ16: 01 | AR16: 15115200 | AS16: 1 | AT16: 20170630 | AU16: 20170615 | AV16: 02 | AW16: 15115200 | AX16: 1 | AY16: 20170715 | AZ16: 0 | BA16: 0 | BB16: 0 | BD16: 7 | BE16: 20170507 | BF16: 1 | BG16: 20170630 | BH16: 2 | BI16: 20170715 | BJ16: 20170715 | BK16: 20170501 | BL16: 20170615 | BM16: 20180513 | BN16: 0 | BO16: 0 | BP16: 20170907 | BQ16: 1 | BR16: 0 | BS16: 20170611 | BT16: 0 | BU16: 0 | BV16: 2 | BW16: 5 | BY16: 1 | BZ16: 5 | CB16: 5 | CC16: 1 | CD16: 3 | CE16: 20170829 | CL16: 20180528 | CM16: 111111117
B17: Participant 8 | C17: 100000000008 | D17: MS | H17: 19900608 | I17: 2 | J17: 0 | K17: 0 | L17: 0 | M17: 0 | N17: 0 | O17: 0 | P17: 1 | Q17: 0 | R17: 0 | S17: 0 | T17: 12 | U17: 1 | V17: 0 | W17: 1 | X17: 0 | Y17: 20170408 | Z17: 20170901 | AA17: 20170518 | AB17: 0 | AC17: 0 | AD17: 04 | AE17: 0 | AF17: 0 | AG17: HG295321660A25 | AH17: 20170501 | AI17: 7 | AJ17: 1 | AK17: 20170414 | AL17: 05 | AM17: 15113100 | AN17: 1 | AO17: 20170508 | AP17: 20170601 | AQ17: 01 | AR17: 15115200 | AS17: 1 | AT17: 20170630 | AU17: 20170615 | AV17: 02 | AW17: 15115200 | AX17: 1 | AY17: 20170715 | AZ17: 0 | BA17: 0 | BB17: 0 | BD17: 1 | BE17: 20170508 | BF17: 2 | BG17: 20170630 | BH17: 3 | BI17: 20170715 | BJ17: 20170715 | BK17: 20170501 | BL17: 20170615 | BM17: 20180513 | BN17: 0 | BO17: 0 | BP17: 20170908 | BQ17: 1 | BR17: 0 | BS17: 20170612 | BT17: 0 | BU17: 0 | BV17: 2 | BW17: 5 | BY17: 1 | BZ17: 5 | CB17: 5 | CC17: 1 | CD17: 3 | CL17: 20180528 | CM17: 111111118
B18: Participant 9 | C18: 100000000009 | D18: IL | H18: 19900609 | I18: 2 | J18: 0 | K18: 0 | L18: 0 | M18: 0 | N18: 0 | O18: 0 | P18: 1 | Q18: 0 | R18: 0 | S18: 0 | T18: 12 | U18: 1 | V18: 0 | W18: 1 | X18: 0 | Y18: 20170409 | Z18: 20170901 | AA18: 20170519 | AB18: 0 | AC18: 0 | AD18: 03 | AE18: 0 | AF18: 0 | AG18: HG295321660A25 | AH18: 20170501 | AI18: 2 | AJ18: 1 | AK18: 20170415 | AL18: 05 | AM18: 15115200 | AN18: 1 | AO18: 20170509 | AP18: 20170601 | AQ18: 01 | AR18: 15115200 | AS18: 1 | AT18: 20170630 | AU18: 20170615 | AV18: 02 | AW18: 15115200 | AX18: 1 | AY18: 20170715 | AZ18: 0 | BA18: 0 | BB18: 0 | BD18: 2 | BE18: 20170509 | BF18: 3 | BG18: 20170630 | BH18: 4 | BI18: 20170715 | BJ18: 20170715 | BK18: 20170501 | BL18: 20170615 | BM18: 20180513 | BN18: 0 | BO18: 0 | BP18: 20170909 | BQ18: 1 | BR18: 0 | BT18: 0 | BU18: 0 | BV18: 2 | BW18: 5 | BY18: 1 | BZ18: 5 | CB18: 5 | CC18: 1 | CD18: 3 | CL18: 20180528 | CM18: 111111119
B19: Participant 10 | C19: 100000000010 | D19: FL | H19: 19800601 | I19: 2 | J19: 0 | K19: 0 | L19: 0 | M19: 0 | N19: 0 | O19: 0 | P19: 1 | Q19: 0 | R19: 0 | S19: 0 | T19: 12 | U19: 1 | V19: 0 | W19: 1 | X19: 0 | Y19: 20170410 | Z19: 20170901 | AA19: 20170520 | AB19: 0 | AC19: 0 | AD19: 01 | AE19: 0 | AF19: 0 | AG19: HG295321660A25 | AH19: 20170501 | AI19: 3 | AJ19: 1 | AK19: 20170416 | AL19: 05 | AM19: 15113100 | AN19: 1 | AO19: 20170510 | AP19: 20170601 | AQ19: 01 | AR19: 15115200 | AS19: 1 | AT19: 20170630 | AU19: 20170615 | AV19: 02 | AW19: 15115200 | AX19: 0 | AY19: 20170701 | AZ19: 0 | BA19: 0 | BB19: 0 | BD19: 0 | BF19: 4 | BG19: 20170630 | BH19: 5 | BI19: 20170701 | BJ19: 20170701 | BK19: 20170501 | BL19: 20170615 | BM19: 20180513 | BN19: 0 | BO19: 0 | BP19: 20170910 | BQ19: 1 | BR19: 0 | BT19: 0 | BU19: 0 | BV19: 2 | BW19: 5 | BY19: 1 | BZ19: 5 | CB19: 5 | CC19: 1 | CD19: 3 | CL19: 20180528 | CM19: 111111120
B20: Participant 11 | C20: 100000000011 | D20: NY | H20: 19800501 | I20: 2 | J20: 0 | K20: 0 | L20: 0 | M20: 0 | N20: 0 | O20: 0 | P20: 1 | Q20: 0 | R20: 1 | S20: 0 | T20: 12 | U20: 1 | V20: 0 | W20: 1 | X20: 0 | Y20: 20170130 | Z20: 20170302 | AA20: 20170130 | AB20: 0 | AC20: 4 | AD20: 00 | AE20: 0 | AF20: 0 | AG20: HG295321660A25 | AH20: 20170202 | AI20: 4 | AJ20: 1 | AK20: 20170130 | AL20: 01 | AM20: 15115200 | AN20: 1 | AO20: 20170201 | AP20: 20170201 | AQ20: 02 | AR20: 15115200 | AS20: 0 | AT20: 20170205 | AU20: 20170205 | AV20: 02 | AW20: 15115200 | AX20: 0 | AY20: 20170207 | AZ20: 0 | BA20: 1 | BB20: 0 | BD20: 4 | BE20: 20170201 | BF20: 2 | BJ20: 20170201 | BK20: 20170201 | BL20: 20170130 | BM20: 20180513 | BN20: 0 | BO20: 0 | BP20: 20170201 | BQ20: 0 | BR20: 0 | BT20: 0 | BU20: 0 | BV20: 6 | BY20: 7 | BZ20: 5 | CB20: 5 | CC20: 1 | CD20: 3 | CF20: 1 | CG20: 0 | CH20: 0 | CI20: 1 | CJ20: 0 | CK20: 1 | CL20: 20180528 | CM20: 111111121
B21: Participant 12 | C21: 100000000012 | D21: CT | H21: 19800401 | I21: 2 | J21: 0 | K21: 0 | L21: 0 | M21: 0 | N21: 0 | O21: 0 | P21: 1 | Q21: 0 | R21: 1 | S21: 0 | T21: 12 | U21: 1 | V21: 0 | W21: 1 | X21: 0 | Y21: 20170130 | Z21: 20170302 | AA21: 20170130 | AB21: 0 | AC21: 4 | AD21: 00 | AE21: 0 | AF21: 0 | AG21: HG295321660A25 | AH21: 20170202 | AI21: 7 | AJ21: 1 | AK21: 20170130 | AL21: 01 | AM21: 15113100 | AN21: 1 | AO21: 20170201 | AP21: 20170201 | AQ21: 05 | AR21: 15115200 | AS21: 0 | AT21: 20170205 | AU21: 20170205 | AV21: 02 | AW21: 15115200 | AX21: 0 | AY21: 20170207 | AZ21: 0 | BA21: 1 | BB21: 0 | BD21: 5 | BE21: 20170201 | BF21: 3 | BJ21: 20170201 | BK21: 20170201 | BL21: 20170130 | BM21: 20180513 | BN21: 0 | BO21: 0 | BP21: 20170201 | BQ21: 0 | BR21: 0 | BT21: 0 | BU21: 0 | BV21: 6 | BY21: 7 | BZ21: 5 | CB21: 5 | CC21: 1 | CD21: 3 | CF21: 0 | CG21: 1 | CH21: 0 | CI21: 0 | CJ21: 9 | CK21: 9 | CL21: 20180528 | CM21: 111111122
B22: Participant 13 | C22: 100000000013 | D22: VA | H22: 19800402 | I22: 2 | J22: 0 | K22: 0 | L22: 0 | M22: 0 | N22: 0 | O22: 0 | P22: 1 | Q22: 0 | R22: 1 | S22: 0 | T22: 12 | U22: 1 | V22: 0 | W22: 1 | X22: 0 | Y22: 20170130 | Z22: 20170302 | AA22: 20170130 | AB22: 0 | AC22: 4 | AD22: 00 | AE22: 0 | AF22: 0 | AG22: HG295321660A25 | AI22: 0 | AJ22: 1 | AK22: 20170130 | AL22: 01 | AM22: 15115200 | AN22: 1 | AO22: 20170201 | AP22: 20170201 | AQ22: 05 | AR22: 15115200 | AS22: 0 | AT22: 20170205 | AU22: 20170205 | AV22: 02 | AW22: 15115200 | AX22: 0 | AY22: 20170207 | AZ22: 0 | BA22: 0 | BB22: 0 | BD22: 6 | BE22: 20170201 | BF22: 4 | BJ22: 20170201 | BK22: 20170201 | BL22: 20170130 | BM22: 20180513 | BN22: 0 | BO22: 0 | BP22: 20170201 | BQ22: 0 | BR22: 0 | BT22: 0 | BU22: 0 | BV22: 6 | BY22: 7 | BZ22: 5 | CB22: 5 | CC22: 1 | CD22: 3 | CF22: 1 | CG22: 0 | CH22: 1 | CI22: 0 | CJ22: 1 | CK22: 0 | CL22: 20180528 | CM22: 111111123
B23: Participant 14 | C23: 100000000014 | D23: VT | H23: 19800403 | I23: 2 | J23: 0 | K23: 0 | L23: 0 | M23: 0 | N23: 0 | O23: 0 | P23: 1 | Q23: 0 | R23: 1 | S23: 0 | T23: 12 | U23: 1 | V23: 0 | W23: 1 | X23: 0 | Y23: 20170130 | Z23: 20170302 | AA23: 20170130 | AB23: 0 | AC23: 4 | AD23: 00 | AE23: 0 | AF23: 0 | AG23: HG295321660A25 | AI23: 0 | AJ23: 1 | AK23: 20170130 | AL23: 01 | AM23: 15113100 | AN23: 1 | AO23: 20170201 | AP23: 20170201 | AQ23: 05 | AR23: 15115200 | AS23: 0 | AT23: 20170205 | AU23: 20170205 | AV23: 02 | AW23: 15115200 | AX23: 0 | AY23: 20170207 | AZ23: 0 | BA23: 0 | BB23: 0 | BD23: 7 | BE23: 20170201 | BF23: 5 | BJ23: 20170201 | BK23: 20170201 | BL23: 20170130 | BM23: 20180513 | BN23: 0 | BO23: 0 | BP23: 20170201 | BQ23: 0 | BR23: 0 | BT23: 0 | BU23: 0 | BV23: 6 | BY23: 7 | BZ23: 5 | CB23: 5 | CC23: 1 | CD23: 3 | CF23: 0 | CG23: 1 | CH23: 9 | CI23: 9 | CJ23: 9 | CK23: 9 | CL23: 20180528 | CM23: 111111124
B24: Participant 15 | C24: 100000000015 | D24: MA | H24: 19600101 | I24: 2 | J24: 0 | K24: 0 | L24: 0 | M24: 0 | N24: 0 | O24: 0 | P24: 1 | Q24: 0 | R24: 1 | S24: 0 | T24: 11 | U24: 0 | V24: 0 | W24: 0 | X24: 1 | Y24: 20170130 | Z24: 20170302 | AA24: 20170130 | AB24: 0 | AC24: 4 | AD24: 00 | AE24: 0 | AF24: 0 | AG24: HG295321660A25 | AI24: 0 | AJ24: 1 | AK24: 20170130 | AL24: 01 | AM24: 15115200 | AN24: 0 | AO24: 20170201 | AQ24: 00 | AV24: 00 | AZ24: 0 | BA24: 0 | BB24: 0 | BK24: 20171002 | BL24: 20170130 | BM24: 20180513 | BN24: 0 | BO24: 0 | BP24: 20171002 | BQ24: 0 | BR24: 0 | BS24: 20170130 | BT24: 0 | BU24: 0 | BV24: 6 | CF24: 1 | CG24: 0 | CH24: 0 | CI24: 1 | CJ24: 9 | CK24: 9 | CL24: 20180528 | CM24: 111111125
B25: Participant 16 | C25: 100000000016 | D25: FL | H25: 19730501 | I25: 2 | J25: 0 | K25: 0 | L25: 0 | M25: 0 | N25: 9 | O25: 0 | P25: 9 | Q25: 0 | R25: 0 | S25: 1 | T25: 12 | U25: 4 | V25: 0 | W25: 0 | X25: 1 | Y25: 20170902 | AA25: 20170902 | AB25: 0 | AC25: 0 | AD25: 00 | AE25: 0 | AF25: 0 | AG25: HG295321660A25 | AI25: 0 | AJ25: 1 | AK25: 20170911 | AL25: 06 | AM25: 15113100 | AQ25: 00 | AV25: 00 | AZ25: 0 | BA25: 0 | BB25: 0 | BK25: 20171002 | BL25: 20170911 | BM25: 20180513 | BN25: 0 | BO25: 1 | BQ25: 0 | BR25: 0 | BS25: 20170910 | BT25: 1 | BU25: 0 | BV25: 5 | BW25: 1 | BX25: 2 | CL25: 20180528 | CM25: 111111126
B26: Participant 17 | C26: 100000000017 | D26: CA | H26: 19910201 | I26: 2 | J26: 0 | K26: 0 | L26: 0 | M26: 1 | N26: 0 | O26: 0 | P26: 0 | Q26: 0 | R26: 0 | S26: 1 | T26: 12 | U26: 5 | V26: 0 | W26: 0 | X26: 0 | Y26: 20170903 | AA26: 20170903 | AB26: 0 | AC26: 0 | AD26: 00 | AE26: 0 | AF26: 0 | AG26: HG295321660A25 | AI26: 0 | AJ26: 1 | AK26: 20170912 | AL26: 06 | AM26: 15115200 | AQ26: 00 | AV26: 00 | AZ26: 0 | BA26: 0 | BB26: 0 | BK26: 20171002 | BL26: 20170912 | BM26: 20180513 | BN26: 0 | BO26: 1 | BQ26: 0 | BR26: 0 | BT26: 0 | BU26: 0 | BV26: 5 | BW26: 1 | BX26: 2 | CL26: 20180528 | CM26: 111111127
B27: Participant 18 | C27: 100000000018 | D27: AZ | H27: 19920501 | I27: 2 | J27: 0 | K27: 0 | L27: 1 | M27: 0 | N27: 0 | O27: 0 | P27: 0 | Q27: 0 | R27: 0 | S27: 1 | T27: 12 | U27: 6 | V27: 0 | W27: 0 | X27: 0 | Y27: 20170904 | AA27: 20170904 | AB27: 0 | AC27: 0 | AD27: 00 | AE27: 0 | AF27: 0 | AG27: HG295321660A25 | AI27: 0 | AJ27: 1 | AK27: 20170913 | AL27: 06 | AM27: 15113100 | AQ27: 00 | AV27: 00 | AZ27: 0 | BA27: 0 | BB27: 0 | BK27: 20171002 | BL27: 20170913 | BM27: 20180513 | BN27: 0 | BO27: 1 | BQ27: 0 | BR27: 0 | BT27: 0 | BU27: 0 | BV27: 5 | BW27: 1 | BX27: 2 | CL27: 20180528 | CM27: 111111128
B28: Participant 19 | C28: 100000000019 | D28: CO | H28: 19920501 | I28: 2 | J28: 0 | K28: 1 | L28: 1 | M28: 1 | N28: 0 | O28: 0 | P28: 0 | Q28: 0 | R28: 0 | S28: 1 | T28: 12 | U28: 7 | V28: 0 | W28: 0 | X28: 0 | Y28: 20170905 | AA28: 20170909 | AB28: 0 | AC28: 0 | AD28: 00 | AE28: 0 | AF28: 0 | AG28: HG295321660A25 | AI28: 0 | AJ28: 1 | AK28: 20170914 | AL28: 06 | AM28: 15115200 | AQ28: 00 | AV28: 00 | AZ28: 0 | BA28: 0 | BB28: 0 | BK28: 20171002 | BL28: 20170914 | BM28: 20180513 | BN28: 0 | BO28: 1 | BQ28: 0 | BR28: 0 | BT28: 0 | BU28: 0 | BV28: 5 | BW28: 1 | BX28: 2 | CL28: 20180528 | CM28: 111111129
B29: Participant 20 | C29: 100000000020 | D29: SC | H29: 19920501 | I29: 2 | J29: 0 | K29: 1 | L29: 0 | M29: 1 | N29: 0 | O29: 0 | P29: 0 | Q29: 0 | R29: 0 | S29: 1 | T29: 12 | U29: 8 | V29: 0 | W29: 0 | X29: 0 | Y29: 20170906 | AA29: 20170910 | AB29: 0 | AC29: 0 | AD29: 00 | AE29: 0 | AF29: 0 | AG29: HG295321660A25 | AI29: 0 | AJ29: 1 | AK29: 20170915 | AL29: 06 | AM29: 15113100 | AQ29: 00 | AV29: 00 | AZ29: 0 | BA29: 0 | BB29: 0 | BK29: 20171002 | BL29: 20170915 | BM29: 20180513 | BN29: 0 | BO29: 1 | BQ29: 0 | BR29: 0 | BT29: 0 | BU29: 0 | BV29: 5 | BW29: 1 | BX29: 2 | CL29: 20180528 | CM29: 111111130
B30: Participant 21 | C30: 100000000021 | D30: TN | H30: 19920501 | I30: 2 | J30: 0 | K30: 1 | L30: 0 | M30: 0 | N30: 0 | O30: 0 | P30: 9 | Q30: 0 | R30: 0 | S30: 0 | T30: 9 | U30: 0 | V30: 0 | W30: 0 | X30: 0 | Y30: 20170907 | AA30: 20170911 | AB30: 0 | AC30: 0 | AD30: 00 | AE30: 1 | AF30: 0 | AG30: HG295321660A25 | AI30: 0 | AJ30: 1 | AK30: 20170916 | AL30: 09 | AM30: 15115200 | AQ30: 00 | AV30: 00 | AZ30: 0 | BA30: 0 | BB30: 0 | BK30: 20171002 | BL30: 20170916 | BM30: 20180513 | BN30: 1 | BO30: 1 | BQ30: 0 | BR30: 0 | BT30: 0 | BU30: 0 | BV30: 5 | BW30: 1 | BX30: 8 | CL30: 20180528 | CM30: 111111131
B31: Participant 22 | C31: 100000000022 | D31: MS | H31: 19920501 | I31: 2 | J31: 1 | K31: 1 | L31: 0 | M31: 0 | N31: 0 | O31: 0 | P31: 9 | Q31: 0 | R31: 0 | S31: 0 | T31: 12 | U31: 3 | V31: 0 | W31: 0 | X31: 0 | Y31: 20170908 | AA31: 20170912 | AB31: 0 | AC31: 0 | AD31: 00 | AE31: 1 | AF31: 0 | AG31: HG295321660A25 | AI31: 0 | AJ31: 1 | AK31: 20170917 | AL31: 09 | AM31: 15113100 | AQ31: 00 | AV31: 00 | AZ31: 0 | BA31: 0 | BB31: 0 | BK31: 20171002 | BL31: 20170917 | BM31: 20180513 | BN31: 1 | BO31: 1 | BQ31: 0 | BR31: 0 | BT31: 0 | BU31: 0 | BV31: 5 | BW31: 1 | BX31: 8 | CL31: 20180528 | CM31: 111111132
B32: Participant 23 | C32: 100000000023 | D32: IL | H32: 19920501 | I32: 9 | J32: 1 | K32: 1 | L32: 0 | M32: 0 | N32: 0 | O32: 0 | P32: 9 | Q32: 0 | R32: 0 | S32: 0 | T32: 12 | U32: 3 | V32: 0 | W32: 0 | X32: 0 | Y32: 20170909 | AA32: 20170913 | AB32: 1 | AC32: 0 | AD32: 00 | AE32: 1 | AF32: 0 | AG32: HG295321660A25 | AI32: 0 | AJ32: 1 | AK32: 20170918 | AL32: 09 | AM32: 15115200 | AQ32: 00 | AV32: 00 | AZ32: 0 | BA32: 0 | BB32: 0 | BK32: 20171002 | BL32: 20170918 | BM32: 20180513 | BN32: 0 | BO32: 1 | BQ32: 0 | BR32: 0 | BT32: 0 | BU32: 0 | BV32: 5 | BW32: 1 | BX32: 8 | CL32: 20180528 | CM32: 111111133
B33: Participant 24 | C33: 100000000024 | D33: FL | H33: 19920501 | I33: 9 | J33: 9 | K33: 1 | L33: 0 | M33: 0 | N33: 0 | O33: 0 | P33: 9 | Q33: 0 | R33: 2 | S33: 0 | T33: 12 | U33: 4 | V33: 1 | W33: 0 | X33: 0 | Y33: 20170910 | AB33: 2 | AC33: 0 | AD33: 00 | AE33: 1 | AF33: 0 | AG33: HG295321660A25 | AI33: 0 | AJ33: 1 | AK33: 20170919 | AL33: 09 | AM33: 15113100 | AQ33: 00 | AV33: 00 | AZ33: 0 | BA33: 0 | BB33: 0 | BK33: 20171002 | BL33: 20170919 | BM33: 20180513 | BN33: 0 | BO33: 0 | BQ33: 0 | BR33: 0 | BT33: 0 | BU33: 0 | BV33: 5 | BW33: 1 | BX33: 8 | CL33: 20180528 | CM33: 111111134
B34: Participant 25 | C34: 100000000025 | D34: NY | H34: 19920501 | I34: 9 | J34: 9 | K34: 9 | L34: 0 | M34: 0 | N34: 0 | O34: 0 | P34: 9 | Q34: 0 | R34: 3 | S34: 0 | T34: 12 | U34: 5 | V34: 9 | W34: 0 | X34: 0 | Y34: 20170911 | AB34: 3 | AC34: 0 | AD34: 00 | AE34: 9 | AF34: 0 | AG34: HG295321660A25 | AI34: 0 | AJ34: 1 | AK34: 20170920 | AL34: 09 | AM34: 15115200 | AQ34: 00 | AV34: 00 | AZ34: 0 | BA34: 0 | BB34: 0 | BK34: 20171002 | BL34: 20170920 | BM34: 20180513 | BN34: 0 | BO34: 0 | BQ34: 0 | BR34: 0 | BT34: 0 | BU34: 0 | BV34: 5 | BW34: 1 | BX34: 8 | CL34: 20180528 | CM34: 111111135

Sheet Data File
A1: H-1B SAMPLE DATA FILE UPLOAD
A2: This is a sample of the first five rows of raw data that will be uploaded into the WIPS System.
A3: Each column represents a data element and a code value is represented in each row of a participant record.
A5: ='H-1B Master Database'!C10 -> 100000000001 | B5: ='H-1B Master Database'!D10 -> MA | F5: ='H-1B Master Database'!H10 -> 19900601 | G5: ='H-1B Master Database'!I10 -> 1 | H5: ='H-1B Master Database'!J10 -> 0 | I5: ='H-1B Master Database'!K10 -> 0 | J5: ='H-1B Master Database'!L10 -> 0 | K5: ='H-1B Master Database'!M10 -> 0 | L5: ='H-1B Master Database'!N10 -> 1 | M5: ='H-1B Master Database'!O10 -> 0 | ... BJ5: ='H-1B Master Database'!BL10 -> 20170615 | BK5: 20180513 | BL5: ='H-1B Master Database'!BN10 -> 0 | BM5: ='H-1B Master Database'!BO10 -> 0 | BN5: ='H-1B Master Database'!BP10 -> 20170901 | BO5: ='H-1B Master Database'!BQ10 -> 1 | BP5: ='H-1B Master Database'!BR10 -> 1 | BQ5: ='H-1B Master Database'!BS10 -> 20170605 | BR5: ='H-1B Master Database'!BT10 -> 0 | BS5: ='H-1B Master Database'!BU10 -> 1 | ... CI5: ='H-1B Master Database'!CK10 -> 0 | CJ5: 20180528 | CK5: ='H-1B Master Database'!CM10 -> 999999999
A6: ='H-1B Master Database'!C11 -> 100000000002 | B6: ='H-1B Master Database'!D11 -> FL | F6: ='H-1B Master Database'!H11 -> 19900602 | G6: ='H-1B Master Database'!I11 -> 1 | H6: ='H-1B Master Database'!J11 -> 0 | I6: ='H-1B Master Database'!K11 -> 0 | J6: ='H-1B Master Database'!L11 -> 0 | K6: ='H-1B Master Database'!M11 -> 0 | L6: ='H-1B Master Database'!N11 -> 1 | M6: ='H-1B Master Database'!O11 -> 0 | ... BJ6: ='H-1B Master Database'!BL11 -> 20170615 | BK6: 20180513 | BL6: ='H-1B Master Database'!BN11 -> 0 | BM6: ='H-1B Master Database'!BO11 -> 0 | BN6: ='H-1B Master Database'!BP11 -> 20170902 | BO6: ='H-1B Master Database'!BQ11 -> 1 | BP6: ='H-1B Master Database'!BR11 -> 0 | BQ6: ='H-1B Master Database'!BS11 -> 20170606 | BR6: ='H-1B Master Database'!BT11 -> 0 | BS6: ='H-1B Master Database'!BU11 -> 1 | ... CI6: ='H-1B Master Database'!CK11 -> 0 | CJ6: 20180528 | CK6: ='H-1B Master Database'!CM11 -> 999999999
A7: ='H-1B Master Database'!C12 -> 100000000003 | B7: ='H-1B Master Database'!D12 -> CA | F7: ='H-1B Master Database'!H12 -> 19900603 | G7: ='H-1B Master Database'!I12 -> 1 | H7: ='H-1B Master Database'!J12 -> 0 | I7: ='H-1B Master Database'!K12 -> 0 | J7: ='H-1B Master Database'!L12 -> 0 | K7: ='H-1B Master Database'!M12 -> 0 | L7: ='H-1B Master Database'!N12 -> 0 | M7: ='H-1B Master Database'!O12 -> 1 | ... BJ7: ='H-1B Master Database'!BL12 -> 20170615 | BK7: 20180513 | BL7: ='H-1B Master Database'!BN12 -> 0 | BM7: ='H-1B Master Database'!BO12 -> 0 | BN7: ='H-1B Master Database'!BP12 -> 20170903 | BO7: ='H-1B Master Database'!BQ12 -> 1 | BP7: ='H-1B Master Database'!BR12 -> 1 | BQ7: ='H-1B Master Database'!BS12 -> 20170607 | BR7: ='H-1B Master Database'!BT12 -> 0 | BS7: ='H-1B Master Database'!BU12 -> 1 | ... CI7: ='H-1B Master Database'!CK12 -> 0 | CJ7: 20180528 | CK7: ='H-1B Master Database'!CM12 -> 111111113
A8: ='H-1B Master Database'!C13 -> 100000000004 | B8: ='H-1B Master Database'!D13 -> AZ | F8: ='H-1B Master Database'!H13 -> 19900604 | G8: ='H-1B Master Database'!I13 -> 1 | H8: ='H-1B Master Database'!J13 -> 0 | I8: ='H-1B Master Database'!K13 -> 0 | J8: ='H-1B Master Database'!L13 -> 0 | K8: ='H-1B Master Database'!M13 -> 0 | L8: ='H-1B Master Database'!N13 -> 0 | M8: ='H-1B Master Database'!O13 -> 0 | ... BJ8: ='H-1B Master Database'!BL13 -> 20170615 | BK8: 20180513 | BL8: ='H-1B Master Database'!BN13 -> 0 | BM8: ='H-1B Master Database'!BO13 -> 0 | BN8: ='H-1B Master Database'!BP13 -> 20170904 | BO8: ='H-1B Master Database'!BQ13 -> 1 | BP8: ='H-1B Master Database'!BR13 -> 0 | BQ8: ='H-1B Master Database'!BS13 -> 20170608 | BR8: ='H-1B Master Database'!BT13 -> 0 | BS8: ='H-1B Master Database'!BU13 -> 1 | ... CI8: ='H-1B Master Database'!CK13 -> 0 | CJ8: 20180528 | CK8: ='H-1B Master Database'!CM13 -> 111111114
A9: ='H-1B Master Database'!C14 -> 100000000005 | B9: ='H-1B Master Database'!D14 -> CO | F9: ='H-1B Master Database'!H14 -> 19900605 | G9: ='H-1B Master Database'!I14 -> 1 | H9: ='H-1B Master Database'!J14 -> 0 | I9: ='H-1B Master Database'!K14 -> 0 | J9: ='H-1B Master Database'!L14 -> 0 | K9: ='H-1B Master Database'!M14 -> 0 | L9: ='H-1B Master Database'!N14 -> 0 | M9: ='H-1B Master Database'!O14 -> 0 | ... BJ9: ='H-1B Master Database'!BL14 -> 20170615 | BK9: 20180513 | BL9: ='H-1B Master Database'!BN14 -> 0 | BM9: ='H-1B Master Database'!BO14 -> 0 | BN9: ='H-1B Master Database'!BP14 -> 20170905 | BO9: ='H-1B Master Database'!BQ14 -> 1 | BP9: ='H-1B Master Database'!BR14 -> 0 | BQ9: ='H-1B Master Database'!BS14 -> 20170609 | BR9: ='H-1B Master Database'!BT14 -> 0 | BS9: ='H-1B Master Database'!BU14 -> 1 | ... CI9: ='H-1B Master Database'!CK14 -> 0 | CJ9: 20180528 | CK9: ='H-1B Master Database'!CM14 -> 111111115
A11: TO GENERATE A DATA FILE USING EXCEL:
A12: If using an Excel spreadsheet to create a data file, simply save the Excel spreadsheet as a csv file format.
A36: TO VIEW YOUR DATA FILE USING NOTEPAD:
A37: Make sure to save your data file as a CSV File as seen in the previous instructions.
A38: Move your curser to your data file and right click your mouse to view options.
A39: Select Open with notepad as seen in the first image below.
A40: Your notepad should appear as the second image below.
A41: PLEASE NOTE: Do not open your csv file in Excel. If you do this, formatting on cells with a leading 0 will be erased. Please follow instructions to open in Notepad.
A42: If you need to make a change to the file, please go back to the original database file to make changes.
A70: SAMPLE DATA FILE IN NOTEPAD
A71: This is what your data file should look like before you upload it in WIPS.
